BEGIN:VCALENDAR
VERSION:2.0
PRODID:-//The Mill Tavern - ECPv6.15.19//NONSGML v1.0//EN
CALSCALE:GREGORIAN
METHOD:PUBLISH
X-WR-CALNAME:The Mill Tavern
X-ORIGINAL-URL:https://milltavern.ca
X-WR-CALDESC:Events for The Mill Tavern
REFRESH-INTERVAL;VALUE=DURATION:PT1H
X-Robots-Tag:noindex
X-PUBLISHED-TTL:PT1H
BEGIN:VTIMEZONE
TZID:America/New_York
BEGIN:DAYLIGHT
TZOFFSETFROM:-0500
TZOFFSETTO:-0400
TZNAME:EDT
DTSTART:20250309T070000
END:DAYLIGHT
BEGIN:STANDARD
TZOFFSETFROM:-0400
TZOFFSETTO:-0500
TZNAME:EST
DTSTART:20251102T060000
END:STANDARD
BEGIN:DAYLIGHT
TZOFFSETFROM:-0500
TZOFFSETTO:-0400
TZNAME:EDT
DTSTART:20260308T070000
END:DAYLIGHT
BEGIN:STANDARD
TZOFFSETFROM:-0400
TZOFFSETTO:-0500
TZNAME:EST
DTSTART:20261101T060000
END:STANDARD
BEGIN:DAYLIGHT
TZOFFSETFROM:-0500
TZOFFSETTO:-0400
TZNAME:EDT
DTSTART:20270314T070000
END:DAYLIGHT
BEGIN:STANDARD
TZOFFSETFROM:-0400
TZOFFSETTO:-0500
TZNAME:EST
DTSTART:20271107T060000
END:STANDARD
END:VTIMEZONE
BEGIN:VEVENT
DTSTART;TZID=America/New_York:20260427T000000
DTEND;TZID=America/New_York:20260427T235959
DTSTAMP:20260424T122704
CREATED:20260212T181151Z
LAST-MODIFIED:20260212T181151Z
UID:10000339-1777248000-1777334399@milltavern.ca
SUMMARY:🍗 MONDAY = WING DAY 🍗
DESCRIPTION:50% OFF WINGS — EVERY MONDAY \nCrispy. Saucy. Worth planning your week around. \n✔️ Choose your favourite flavour\n✔️ Comes with your choice of side\n✔️ Perfect with a cold pint \n📍 Dine-in only\n⏰ Every Monday \nTag your wing crew and make it a Monday tradition. 🔥
URL:https://milltavern.ca/event/%f0%9f%8d%97-monday-wing-day-%f0%9f%8d%97/2026-04-27/
LOCATION:The Mill Tavern\, 5544 Manotick Main St\, Manotick\, Ontario\, K4M 1A2\, Canada
CATEGORIES:Food & Beverage
ATTACH;FMTTYPE=image/png:https://milltavern.ca/wp-content/uploads/2026/02/From-Rob-2026-02-12-at-13.04.40@2x-e1770919834380.png
END:VEVENT
BEGIN:VEVENT
DTSTART;TZID=America/New_York:20260504T000000
DTEND;TZID=America/New_York:20260504T235959
DTSTAMP:20260424T122704
CREATED:20260212T181151Z
LAST-MODIFIED:20260212T181151Z
UID:10000340-1777852800-1777939199@milltavern.ca
SUMMARY:🍗 MONDAY = WING DAY 🍗
DESCRIPTION:50% OFF WINGS — EVERY MONDAY \nCrispy. Saucy. Worth planning your week around. \n✔️ Choose your favourite flavour\n✔️ Comes with your choice of side\n✔️ Perfect with a cold pint \n📍 Dine-in only\n⏰ Every Monday \nTag your wing crew and make it a Monday tradition. 🔥
URL:https://milltavern.ca/event/%f0%9f%8d%97-monday-wing-day-%f0%9f%8d%97/2026-05-04/
LOCATION:The Mill Tavern\, 5544 Manotick Main St\, Manotick\, Ontario\, K4M 1A2\, Canada
CATEGORIES:Food & Beverage
ATTACH;FMTTYPE=image/png:https://milltavern.ca/wp-content/uploads/2026/02/From-Rob-2026-02-12-at-13.04.40@2x-e1770919834380.png
END:VEVENT
BEGIN:VEVENT
DTSTART;TZID=America/New_York:20260511T000000
DTEND;TZID=America/New_York:20260511T235959
DTSTAMP:20260424T122704
CREATED:20260212T181151Z
LAST-MODIFIED:20260212T181151Z
UID:10000341-1778457600-1778543999@milltavern.ca
SUMMARY:🍗 MONDAY = WING DAY 🍗
DESCRIPTION:50% OFF WINGS — EVERY MONDAY \nCrispy. Saucy. Worth planning your week around. \n✔️ Choose your favourite flavour\n✔️ Comes with your choice of side\n✔️ Perfect with a cold pint \n📍 Dine-in only\n⏰ Every Monday \nTag your wing crew and make it a Monday tradition. 🔥
URL:https://milltavern.ca/event/%f0%9f%8d%97-monday-wing-day-%f0%9f%8d%97/2026-05-11/
LOCATION:The Mill Tavern\, 5544 Manotick Main St\, Manotick\, Ontario\, K4M 1A2\, Canada
CATEGORIES:Food & Beverage
ATTACH;FMTTYPE=image/png:https://milltavern.ca/wp-content/uploads/2026/02/From-Rob-2026-02-12-at-13.04.40@2x-e1770919834380.png
END:VEVENT
BEGIN:VEVENT
DTSTART;TZID=America/New_York:20260518T000000
DTEND;TZID=America/New_York:20260518T235959
DTSTAMP:20260424T122704
CREATED:20260212T181151Z
LAST-MODIFIED:20260212T181151Z
UID:10000342-1779062400-1779148799@milltavern.ca
SUMMARY:🍗 MONDAY = WING DAY 🍗
DESCRIPTION:50% OFF WINGS — EVERY MONDAY \nCrispy. Saucy. Worth planning your week around. \n✔️ Choose your favourite flavour\n✔️ Comes with your choice of side\n✔️ Perfect with a cold pint \n📍 Dine-in only\n⏰ Every Monday \nTag your wing crew and make it a Monday tradition. 🔥
URL:https://milltavern.ca/event/%f0%9f%8d%97-monday-wing-day-%f0%9f%8d%97/2026-05-18/
LOCATION:The Mill Tavern\, 5544 Manotick Main St\, Manotick\, Ontario\, K4M 1A2\, Canada
CATEGORIES:Food & Beverage
ATTACH;FMTTYPE=image/png:https://milltavern.ca/wp-content/uploads/2026/02/From-Rob-2026-02-12-at-13.04.40@2x-e1770919834380.png
END:VEVENT
BEGIN:VEVENT
DTSTART;TZID=America/New_York:20260525T000000
DTEND;TZID=America/New_York:20260525T235959
DTSTAMP:20260424T122704
CREATED:20260212T181151Z
LAST-MODIFIED:20260212T181151Z
UID:10000343-1779667200-1779753599@milltavern.ca
SUMMARY:🍗 MONDAY = WING DAY 🍗
DESCRIPTION:50% OFF WINGS — EVERY MONDAY \nCrispy. Saucy. Worth planning your week around. \n✔️ Choose your favourite flavour\n✔️ Comes with your choice of side\n✔️ Perfect with a cold pint \n📍 Dine-in only\n⏰ Every Monday \nTag your wing crew and make it a Monday tradition. 🔥
URL:https://milltavern.ca/event/%f0%9f%8d%97-monday-wing-day-%f0%9f%8d%97/2026-05-25/
LOCATION:The Mill Tavern\, 5544 Manotick Main St\, Manotick\, Ontario\, K4M 1A2\, Canada
CATEGORIES:Food & Beverage
ATTACH;FMTTYPE=image/png:https://milltavern.ca/wp-content/uploads/2026/02/From-Rob-2026-02-12-at-13.04.40@2x-e1770919834380.png
END:VEVENT
BEGIN:VEVENT
DTSTART;TZID=America/New_York:20260601T000000
DTEND;TZID=America/New_York:20260601T235959
DTSTAMP:20260424T122704
CREATED:20260212T181151Z
LAST-MODIFIED:20260212T181151Z
UID:10000344-1780272000-1780358399@milltavern.ca
SUMMARY:🍗 MONDAY = WING DAY 🍗
DESCRIPTION:50% OFF WINGS — EVERY MONDAY \nCrispy. Saucy. Worth planning your week around. \n✔️ Choose your favourite flavour\n✔️ Comes with your choice of side\n✔️ Perfect with a cold pint \n📍 Dine-in only\n⏰ Every Monday \nTag your wing crew and make it a Monday tradition. 🔥
URL:https://milltavern.ca/event/%f0%9f%8d%97-monday-wing-day-%f0%9f%8d%97/2026-06-01/
LOCATION:The Mill Tavern\, 5544 Manotick Main St\, Manotick\, Ontario\, K4M 1A2\, Canada
CATEGORIES:Food & Beverage
ATTACH;FMTTYPE=image/png:https://milltavern.ca/wp-content/uploads/2026/02/From-Rob-2026-02-12-at-13.04.40@2x-e1770919834380.png
END:VEVENT
BEGIN:VEVENT
DTSTART;TZID=America/New_York:20260608T000000
DTEND;TZID=America/New_York:20260608T235959
DTSTAMP:20260424T122704
CREATED:20260212T181151Z
LAST-MODIFIED:20260212T181151Z
UID:10000345-1780876800-1780963199@milltavern.ca
SUMMARY:🍗 MONDAY = WING DAY 🍗
DESCRIPTION:50% OFF WINGS — EVERY MONDAY \nCrispy. Saucy. Worth planning your week around. \n✔️ Choose your favourite flavour\n✔️ Comes with your choice of side\n✔️ Perfect with a cold pint \n📍 Dine-in only\n⏰ Every Monday \nTag your wing crew and make it a Monday tradition. 🔥
URL:https://milltavern.ca/event/%f0%9f%8d%97-monday-wing-day-%f0%9f%8d%97/2026-06-08/
LOCATION:The Mill Tavern\, 5544 Manotick Main St\, Manotick\, Ontario\, K4M 1A2\, Canada
CATEGORIES:Food & Beverage
ATTACH;FMTTYPE=image/png:https://milltavern.ca/wp-content/uploads/2026/02/From-Rob-2026-02-12-at-13.04.40@2x-e1770919834380.png
END:VEVENT
BEGIN:VEVENT
DTSTART;TZID=America/New_York:20260615T000000
DTEND;TZID=America/New_York:20260615T235959
DTSTAMP:20260424T122704
CREATED:20260212T181151Z
LAST-MODIFIED:20260212T181151Z
UID:10000346-1781481600-1781567999@milltavern.ca
SUMMARY:🍗 MONDAY = WING DAY 🍗
DESCRIPTION:50% OFF WINGS — EVERY MONDAY \nCrispy. Saucy. Worth planning your week around. \n✔️ Choose your favourite flavour\n✔️ Comes with your choice of side\n✔️ Perfect with a cold pint \n📍 Dine-in only\n⏰ Every Monday \nTag your wing crew and make it a Monday tradition. 🔥
URL:https://milltavern.ca/event/%f0%9f%8d%97-monday-wing-day-%f0%9f%8d%97/2026-06-15/
LOCATION:The Mill Tavern\, 5544 Manotick Main St\, Manotick\, Ontario\, K4M 1A2\, Canada
CATEGORIES:Food & Beverage
ATTACH;FMTTYPE=image/png:https://milltavern.ca/wp-content/uploads/2026/02/From-Rob-2026-02-12-at-13.04.40@2x-e1770919834380.png
END:VEVENT
BEGIN:VEVENT
DTSTART;TZID=America/New_York:20260622T000000
DTEND;TZID=America/New_York:20260622T235959
DTSTAMP:20260424T122704
CREATED:20260212T181151Z
LAST-MODIFIED:20260212T181151Z
UID:10000347-1782086400-1782172799@milltavern.ca
SUMMARY:🍗 MONDAY = WING DAY 🍗
DESCRIPTION:50% OFF WINGS — EVERY MONDAY \nCrispy. Saucy. Worth planning your week around. \n✔️ Choose your favourite flavour\n✔️ Comes with your choice of side\n✔️ Perfect with a cold pint \n📍 Dine-in only\n⏰ Every Monday \nTag your wing crew and make it a Monday tradition. 🔥
URL:https://milltavern.ca/event/%f0%9f%8d%97-monday-wing-day-%f0%9f%8d%97/2026-06-22/
LOCATION:The Mill Tavern\, 5544 Manotick Main St\, Manotick\, Ontario\, K4M 1A2\, Canada
CATEGORIES:Food & Beverage
ATTACH;FMTTYPE=image/png:https://milltavern.ca/wp-content/uploads/2026/02/From-Rob-2026-02-12-at-13.04.40@2x-e1770919834380.png
END:VEVENT
BEGIN:VEVENT
DTSTART;TZID=America/New_York:20260629T000000
DTEND;TZID=America/New_York:20260629T235959
DTSTAMP:20260424T122704
CREATED:20260212T181151Z
LAST-MODIFIED:20260212T181151Z
UID:10000348-1782691200-1782777599@milltavern.ca
SUMMARY:🍗 MONDAY = WING DAY 🍗
DESCRIPTION:50% OFF WINGS — EVERY MONDAY \nCrispy. Saucy. Worth planning your week around. \n✔️ Choose your favourite flavour\n✔️ Comes with your choice of side\n✔️ Perfect with a cold pint \n📍 Dine-in only\n⏰ Every Monday \nTag your wing crew and make it a Monday tradition. 🔥
URL:https://milltavern.ca/event/%f0%9f%8d%97-monday-wing-day-%f0%9f%8d%97/2026-06-29/
LOCATION:The Mill Tavern\, 5544 Manotick Main St\, Manotick\, Ontario\, K4M 1A2\, Canada
CATEGORIES:Food & Beverage
ATTACH;FMTTYPE=image/png:https://milltavern.ca/wp-content/uploads/2026/02/From-Rob-2026-02-12-at-13.04.40@2x-e1770919834380.png
END:VEVENT
END:VCALENDAR