BEGIN:VCALENDAR
VERSION:2.0
PRODID:-//The Mill Tavern - ECPv6.15.19//NONSGML v1.0//EN
CALSCALE:GREGORIAN
METHOD:PUBLISH
X-ORIGINAL-URL:https://milltavern.ca
X-WR-CALDESC:Events for The Mill Tavern
REFRESH-INTERVAL;VALUE=DURATION:PT1H
X-Robots-Tag:noindex
X-PUBLISHED-TTL:PT1H
BEGIN:VTIMEZONE
TZID:America/New_York
BEGIN:DAYLIGHT
TZOFFSETFROM:-0500
TZOFFSETTO:-0400
TZNAME:EDT
DTSTART:20260308T070000
END:DAYLIGHT
BEGIN:STANDARD
TZOFFSETFROM:-0400
TZOFFSETTO:-0500
TZNAME:EST
DTSTART:20261101T060000
END:STANDARD
BEGIN:DAYLIGHT
TZOFFSETFROM:-0500
TZOFFSETTO:-0400
TZNAME:EDT
DTSTART:20270314T070000
END:DAYLIGHT
BEGIN:STANDARD
TZOFFSETFROM:-0400
TZOFFSETTO:-0500
TZNAME:EST
DTSTART:20271107T060000
END:STANDARD
BEGIN:DAYLIGHT
TZOFFSETFROM:-0500
TZOFFSETTO:-0400
TZNAME:EDT
DTSTART:20280312T070000
END:DAYLIGHT
BEGIN:STANDARD
TZOFFSETFROM:-0400
TZOFFSETTO:-0500
TZNAME:EST
DTSTART:20281105T060000
END:STANDARD
END:VTIMEZONE
BEGIN:VEVENT
DTSTART;TZID=America/New_York:20271031T213000
DTEND;TZID=America/New_York:20271101T010000
DTSTAMP:20260425T211955
CREATED:20260212T201733Z
LAST-MODIFIED:20260212T201733Z
UID:10000501-1825018200-1825030800@milltavern.ca
SUMMARY:50% off Appetizers
DESCRIPTION:
URL:https://milltavern.ca/event/50-off-appetizers/2027-10-31/
LOCATION:The Mill Tavern\, 5544 Manotick Main St\, Manotick\, Ontario\, K4M 1A2\, Canada
END:VEVENT
BEGIN:VEVENT
DTSTART;TZID=America/New_York:20271103T210000
DTEND;TZID=America/New_York:20271104T010000
DTSTAMP:20260425T211955
CREATED:20250326T201613Z
LAST-MODIFIED:20250326T201836Z
UID:10000186-1825275600-1825290000@milltavern.ca
SUMMARY:Karaoke
DESCRIPTION:? Karaoke Night at The Mill Tavern ?\nUnleash your inner rockstar every Wednesday at 9:00 om at The Mill Tavern! Whether you’re a seasoned performer or just here for the laughs\, Karaoke Night is all about good vibes\, great tunes\, and unforgettable memories. Grab the mic\, grab a pint\, and sing your heart out with friends\, family\, or the whole bar cheering you on. \n? Drink specials | ? Huge song selection | ? Laid-back atmosphere \nCome for the music\, stay for the fun. See you at The Mill!
URL:https://milltavern.ca/event/karaoke/2027-11-03/
LOCATION:The Mill Tavern\, 5544 Manotick Main St\, Manotick\, Ontario\, K4M 1A2\, Canada
ATTACH;FMTTYPE=image/jpeg:https://milltavern.ca/wp-content/uploads/2025/03/kane-reinholdtsen-LETdkk7wHQk-unsplash-scaled.jpg
END:VEVENT
BEGIN:VEVENT
DTSTART;TZID=America/New_York:20271107T213000
DTEND;TZID=America/New_York:20271108T010000
DTSTAMP:20260425T211955
CREATED:20260212T201733Z
LAST-MODIFIED:20260212T201733Z
UID:10000502-1825623000-1825635600@milltavern.ca
SUMMARY:50% off Appetizers
DESCRIPTION:
URL:https://milltavern.ca/event/50-off-appetizers/2027-11-07/
LOCATION:The Mill Tavern\, 5544 Manotick Main St\, Manotick\, Ontario\, K4M 1A2\, Canada
END:VEVENT
BEGIN:VEVENT
DTSTART;TZID=America/New_York:20271110T210000
DTEND;TZID=America/New_York:20271111T010000
DTSTAMP:20260425T211955
CREATED:20250326T201613Z
LAST-MODIFIED:20250326T201836Z
UID:10000187-1825880400-1825894800@milltavern.ca
SUMMARY:Karaoke
DESCRIPTION:? Karaoke Night at The Mill Tavern ?\nUnleash your inner rockstar every Wednesday at 9:00 om at The Mill Tavern! Whether you’re a seasoned performer or just here for the laughs\, Karaoke Night is all about good vibes\, great tunes\, and unforgettable memories. Grab the mic\, grab a pint\, and sing your heart out with friends\, family\, or the whole bar cheering you on. \n? Drink specials | ? Huge song selection | ? Laid-back atmosphere \nCome for the music\, stay for the fun. See you at The Mill!
URL:https://milltavern.ca/event/karaoke/2027-11-10/
LOCATION:The Mill Tavern\, 5544 Manotick Main St\, Manotick\, Ontario\, K4M 1A2\, Canada
ATTACH;FMTTYPE=image/jpeg:https://milltavern.ca/wp-content/uploads/2025/03/kane-reinholdtsen-LETdkk7wHQk-unsplash-scaled.jpg
END:VEVENT
BEGIN:VEVENT
DTSTART;TZID=America/New_York:20271114T213000
DTEND;TZID=America/New_York:20271115T010000
DTSTAMP:20260425T211955
CREATED:20260212T201733Z
LAST-MODIFIED:20260212T201733Z
UID:10000503-1826227800-1826240400@milltavern.ca
SUMMARY:50% off Appetizers
DESCRIPTION:
URL:https://milltavern.ca/event/50-off-appetizers/2027-11-14/
LOCATION:The Mill Tavern\, 5544 Manotick Main St\, Manotick\, Ontario\, K4M 1A2\, Canada
END:VEVENT
BEGIN:VEVENT
DTSTART;TZID=America/New_York:20271117T210000
DTEND;TZID=America/New_York:20271118T010000
DTSTAMP:20260425T211955
CREATED:20250326T201613Z
LAST-MODIFIED:20250326T201836Z
UID:10000188-1826485200-1826499600@milltavern.ca
SUMMARY:Karaoke
DESCRIPTION:? Karaoke Night at The Mill Tavern ?\nUnleash your inner rockstar every Wednesday at 9:00 om at The Mill Tavern! Whether you’re a seasoned performer or just here for the laughs\, Karaoke Night is all about good vibes\, great tunes\, and unforgettable memories. Grab the mic\, grab a pint\, and sing your heart out with friends\, family\, or the whole bar cheering you on. \n? Drink specials | ? Huge song selection | ? Laid-back atmosphere \nCome for the music\, stay for the fun. See you at The Mill!
URL:https://milltavern.ca/event/karaoke/2027-11-17/
LOCATION:The Mill Tavern\, 5544 Manotick Main St\, Manotick\, Ontario\, K4M 1A2\, Canada
ATTACH;FMTTYPE=image/jpeg:https://milltavern.ca/wp-content/uploads/2025/03/kane-reinholdtsen-LETdkk7wHQk-unsplash-scaled.jpg
END:VEVENT
BEGIN:VEVENT
DTSTART;TZID=America/New_York:20271121T213000
DTEND;TZID=America/New_York:20271122T010000
DTSTAMP:20260425T211955
CREATED:20260212T201733Z
LAST-MODIFIED:20260212T201733Z
UID:10000504-1826832600-1826845200@milltavern.ca
SUMMARY:50% off Appetizers
DESCRIPTION:
URL:https://milltavern.ca/event/50-off-appetizers/2027-11-21/
LOCATION:The Mill Tavern\, 5544 Manotick Main St\, Manotick\, Ontario\, K4M 1A2\, Canada
END:VEVENT
BEGIN:VEVENT
DTSTART;TZID=America/New_York:20271124T210000
DTEND;TZID=America/New_York:20271125T010000
DTSTAMP:20260425T211955
CREATED:20250326T201613Z
LAST-MODIFIED:20250326T201836Z
UID:10000189-1827090000-1827104400@milltavern.ca
SUMMARY:Karaoke
DESCRIPTION:? Karaoke Night at The Mill Tavern ?\nUnleash your inner rockstar every Wednesday at 9:00 om at The Mill Tavern! Whether you’re a seasoned performer or just here for the laughs\, Karaoke Night is all about good vibes\, great tunes\, and unforgettable memories. Grab the mic\, grab a pint\, and sing your heart out with friends\, family\, or the whole bar cheering you on. \n? Drink specials | ? Huge song selection | ? Laid-back atmosphere \nCome for the music\, stay for the fun. See you at The Mill!
URL:https://milltavern.ca/event/karaoke/2027-11-24/
LOCATION:The Mill Tavern\, 5544 Manotick Main St\, Manotick\, Ontario\, K4M 1A2\, Canada
ATTACH;FMTTYPE=image/jpeg:https://milltavern.ca/wp-content/uploads/2025/03/kane-reinholdtsen-LETdkk7wHQk-unsplash-scaled.jpg
END:VEVENT
BEGIN:VEVENT
DTSTART;TZID=America/New_York:20271128T213000
DTEND;TZID=America/New_York:20271129T010000
DTSTAMP:20260425T211955
CREATED:20260212T201733Z
LAST-MODIFIED:20260212T201733Z
UID:10000505-1827437400-1827450000@milltavern.ca
SUMMARY:50% off Appetizers
DESCRIPTION:
URL:https://milltavern.ca/event/50-off-appetizers/2027-11-28/
LOCATION:The Mill Tavern\, 5544 Manotick Main St\, Manotick\, Ontario\, K4M 1A2\, Canada
END:VEVENT
END:VCALENDAR