BEGIN:VCALENDAR
VERSION:2.0
PRODID:-//The Mill Tavern - ECPv6.15.19//NONSGML v1.0//EN
CALSCALE:GREGORIAN
METHOD:PUBLISH
X-WR-CALNAME:The Mill Tavern
X-ORIGINAL-URL:https://milltavern.ca
X-WR-CALDESC:Events for The Mill Tavern
REFRESH-INTERVAL;VALUE=DURATION:PT1H
X-Robots-Tag:noindex
X-PUBLISHED-TTL:PT1H
BEGIN:VTIMEZONE
TZID:America/New_York
BEGIN:DAYLIGHT
TZOFFSETFROM:-0500
TZOFFSETTO:-0400
TZNAME:EDT
DTSTART:20260308T070000
END:DAYLIGHT
BEGIN:STANDARD
TZOFFSETFROM:-0400
TZOFFSETTO:-0500
TZNAME:EST
DTSTART:20261101T060000
END:STANDARD
BEGIN:DAYLIGHT
TZOFFSETFROM:-0500
TZOFFSETTO:-0400
TZNAME:EDT
DTSTART:20270314T070000
END:DAYLIGHT
BEGIN:STANDARD
TZOFFSETFROM:-0400
TZOFFSETTO:-0500
TZNAME:EST
DTSTART:20271107T060000
END:STANDARD
BEGIN:DAYLIGHT
TZOFFSETFROM:-0500
TZOFFSETTO:-0400
TZNAME:EDT
DTSTART:20280312T070000
END:DAYLIGHT
BEGIN:STANDARD
TZOFFSETFROM:-0400
TZOFFSETTO:-0500
TZNAME:EST
DTSTART:20281105T060000
END:STANDARD
END:VTIMEZONE
BEGIN:VEVENT
DTSTART;TZID=America/New_York:20270801T213000
DTEND;TZID=America/New_York:20270802T010000
DTSTAMP:20260425T155640
CREATED:20260212T201733Z
LAST-MODIFIED:20260212T201733Z
UID:10000488-1817155800-1817168400@milltavern.ca
SUMMARY:50% off Appetizers
DESCRIPTION:
URL:https://milltavern.ca/event/50-off-appetizers/2027-08-01/
LOCATION:The Mill Tavern\, 5544 Manotick Main St\, Manotick\, Ontario\, K4M 1A2\, Canada
END:VEVENT
BEGIN:VEVENT
DTSTART;TZID=America/New_York:20270804T210000
DTEND;TZID=America/New_York:20270805T010000
DTSTAMP:20260425T155640
CREATED:20250326T201613Z
LAST-MODIFIED:20250326T201836Z
UID:10000173-1817413200-1817427600@milltavern.ca
SUMMARY:Karaoke
DESCRIPTION:? Karaoke Night at The Mill Tavern ?\nUnleash your inner rockstar every Wednesday at 9:00 om at The Mill Tavern! Whether you’re a seasoned performer or just here for the laughs\, Karaoke Night is all about good vibes\, great tunes\, and unforgettable memories. Grab the mic\, grab a pint\, and sing your heart out with friends\, family\, or the whole bar cheering you on. \n? Drink specials | ? Huge song selection | ? Laid-back atmosphere \nCome for the music\, stay for the fun. See you at The Mill!
URL:https://milltavern.ca/event/karaoke/2027-08-04/
LOCATION:The Mill Tavern\, 5544 Manotick Main St\, Manotick\, Ontario\, K4M 1A2\, Canada
ATTACH;FMTTYPE=image/jpeg:https://milltavern.ca/wp-content/uploads/2025/03/kane-reinholdtsen-LETdkk7wHQk-unsplash-scaled.jpg
END:VEVENT
BEGIN:VEVENT
DTSTART;TZID=America/New_York:20270808T213000
DTEND;TZID=America/New_York:20270809T010000
DTSTAMP:20260425T155640
CREATED:20260212T201733Z
LAST-MODIFIED:20260212T201733Z
UID:10000489-1817760600-1817773200@milltavern.ca
SUMMARY:50% off Appetizers
DESCRIPTION:
URL:https://milltavern.ca/event/50-off-appetizers/2027-08-08/
LOCATION:The Mill Tavern\, 5544 Manotick Main St\, Manotick\, Ontario\, K4M 1A2\, Canada
END:VEVENT
BEGIN:VEVENT
DTSTART;TZID=America/New_York:20270811T210000
DTEND;TZID=America/New_York:20270812T010000
DTSTAMP:20260425T155640
CREATED:20250326T201613Z
LAST-MODIFIED:20250326T201836Z
UID:10000174-1818018000-1818032400@milltavern.ca
SUMMARY:Karaoke
DESCRIPTION:? Karaoke Night at The Mill Tavern ?\nUnleash your inner rockstar every Wednesday at 9:00 om at The Mill Tavern! Whether you’re a seasoned performer or just here for the laughs\, Karaoke Night is all about good vibes\, great tunes\, and unforgettable memories. Grab the mic\, grab a pint\, and sing your heart out with friends\, family\, or the whole bar cheering you on. \n? Drink specials | ? Huge song selection | ? Laid-back atmosphere \nCome for the music\, stay for the fun. See you at The Mill!
URL:https://milltavern.ca/event/karaoke/2027-08-11/
LOCATION:The Mill Tavern\, 5544 Manotick Main St\, Manotick\, Ontario\, K4M 1A2\, Canada
ATTACH;FMTTYPE=image/jpeg:https://milltavern.ca/wp-content/uploads/2025/03/kane-reinholdtsen-LETdkk7wHQk-unsplash-scaled.jpg
END:VEVENT
BEGIN:VEVENT
DTSTART;TZID=America/New_York:20270815T213000
DTEND;TZID=America/New_York:20270816T010000
DTSTAMP:20260425T155640
CREATED:20260212T201733Z
LAST-MODIFIED:20260212T201733Z
UID:10000490-1818365400-1818378000@milltavern.ca
SUMMARY:50% off Appetizers
DESCRIPTION:
URL:https://milltavern.ca/event/50-off-appetizers/2027-08-15/
LOCATION:The Mill Tavern\, 5544 Manotick Main St\, Manotick\, Ontario\, K4M 1A2\, Canada
END:VEVENT
BEGIN:VEVENT
DTSTART;TZID=America/New_York:20270818T210000
DTEND;TZID=America/New_York:20270819T010000
DTSTAMP:20260425T155640
CREATED:20250326T201613Z
LAST-MODIFIED:20250326T201836Z
UID:10000175-1818622800-1818637200@milltavern.ca
SUMMARY:Karaoke
DESCRIPTION:? Karaoke Night at The Mill Tavern ?\nUnleash your inner rockstar every Wednesday at 9:00 om at The Mill Tavern! Whether you’re a seasoned performer or just here for the laughs\, Karaoke Night is all about good vibes\, great tunes\, and unforgettable memories. Grab the mic\, grab a pint\, and sing your heart out with friends\, family\, or the whole bar cheering you on. \n? Drink specials | ? Huge song selection | ? Laid-back atmosphere \nCome for the music\, stay for the fun. See you at The Mill!
URL:https://milltavern.ca/event/karaoke/2027-08-18/
LOCATION:The Mill Tavern\, 5544 Manotick Main St\, Manotick\, Ontario\, K4M 1A2\, Canada
ATTACH;FMTTYPE=image/jpeg:https://milltavern.ca/wp-content/uploads/2025/03/kane-reinholdtsen-LETdkk7wHQk-unsplash-scaled.jpg
END:VEVENT
BEGIN:VEVENT
DTSTART;TZID=America/New_York:20270822T213000
DTEND;TZID=America/New_York:20270823T010000
DTSTAMP:20260425T155640
CREATED:20260212T201733Z
LAST-MODIFIED:20260212T201733Z
UID:10000491-1818970200-1818982800@milltavern.ca
SUMMARY:50% off Appetizers
DESCRIPTION:
URL:https://milltavern.ca/event/50-off-appetizers/2027-08-22/
LOCATION:The Mill Tavern\, 5544 Manotick Main St\, Manotick\, Ontario\, K4M 1A2\, Canada
END:VEVENT
BEGIN:VEVENT
DTSTART;TZID=America/New_York:20270825T210000
DTEND;TZID=America/New_York:20270826T010000
DTSTAMP:20260425T155640
CREATED:20250326T201613Z
LAST-MODIFIED:20250326T201836Z
UID:10000176-1819227600-1819242000@milltavern.ca
SUMMARY:Karaoke
DESCRIPTION:? Karaoke Night at The Mill Tavern ?\nUnleash your inner rockstar every Wednesday at 9:00 om at The Mill Tavern! Whether you’re a seasoned performer or just here for the laughs\, Karaoke Night is all about good vibes\, great tunes\, and unforgettable memories. Grab the mic\, grab a pint\, and sing your heart out with friends\, family\, or the whole bar cheering you on. \n? Drink specials | ? Huge song selection | ? Laid-back atmosphere \nCome for the music\, stay for the fun. See you at The Mill!
URL:https://milltavern.ca/event/karaoke/2027-08-25/
LOCATION:The Mill Tavern\, 5544 Manotick Main St\, Manotick\, Ontario\, K4M 1A2\, Canada
ATTACH;FMTTYPE=image/jpeg:https://milltavern.ca/wp-content/uploads/2025/03/kane-reinholdtsen-LETdkk7wHQk-unsplash-scaled.jpg
END:VEVENT
BEGIN:VEVENT
DTSTART;TZID=America/New_York:20270829T213000
DTEND;TZID=America/New_York:20270830T010000
DTSTAMP:20260425T155640
CREATED:20260212T201733Z
LAST-MODIFIED:20260212T201733Z
UID:10000492-1819575000-1819587600@milltavern.ca
SUMMARY:50% off Appetizers
DESCRIPTION:
URL:https://milltavern.ca/event/50-off-appetizers/2027-08-29/
LOCATION:The Mill Tavern\, 5544 Manotick Main St\, Manotick\, Ontario\, K4M 1A2\, Canada
END:VEVENT
END:VCALENDAR