BEGIN:VCALENDAR
VERSION:2.0
PRODID:-//The Mill Tavern - ECPv6.15.19//NONSGML v1.0//EN
CALSCALE:GREGORIAN
METHOD:PUBLISH
X-WR-CALNAME:The Mill Tavern
X-ORIGINAL-URL:https://milltavern.ca
X-WR-CALDESC:Events for The Mill Tavern
REFRESH-INTERVAL;VALUE=DURATION:PT1H
X-Robots-Tag:noindex
X-PUBLISHED-TTL:PT1H
BEGIN:VTIMEZONE
TZID:America/New_York
BEGIN:DAYLIGHT
TZOFFSETFROM:-0500
TZOFFSETTO:-0400
TZNAME:EDT
DTSTART:20250309T070000
END:DAYLIGHT
BEGIN:STANDARD
TZOFFSETFROM:-0400
TZOFFSETTO:-0500
TZNAME:EST
DTSTART:20251102T060000
END:STANDARD
BEGIN:DAYLIGHT
TZOFFSETFROM:-0500
TZOFFSETTO:-0400
TZNAME:EDT
DTSTART:20260308T070000
END:DAYLIGHT
BEGIN:STANDARD
TZOFFSETFROM:-0400
TZOFFSETTO:-0500
TZNAME:EST
DTSTART:20261101T060000
END:STANDARD
BEGIN:DAYLIGHT
TZOFFSETFROM:-0500
TZOFFSETTO:-0400
TZNAME:EDT
DTSTART:20270314T070000
END:DAYLIGHT
BEGIN:STANDARD
TZOFFSETFROM:-0400
TZOFFSETTO:-0500
TZNAME:EST
DTSTART:20271107T060000
END:STANDARD
END:VTIMEZONE
BEGIN:VEVENT
DTSTART;TZID=America/New_York:20261101T213000
DTEND;TZID=America/New_York:20261102T010000
DTSTAMP:20260425T002228
CREATED:20260212T201733Z
LAST-MODIFIED:20260212T201733Z
UID:10000449-1793568600-1793581200@milltavern.ca
SUMMARY:50% off Appetizers
DESCRIPTION:
URL:https://milltavern.ca/event/50-off-appetizers/2026-11-01/
LOCATION:The Mill Tavern\, 5544 Manotick Main St\, Manotick\, Ontario\, K4M 1A2\, Canada
END:VEVENT
BEGIN:VEVENT
DTSTART;TZID=America/New_York:20261104T210000
DTEND;TZID=America/New_York:20261105T010000
DTSTAMP:20260425T002228
CREATED:20250326T201613Z
LAST-MODIFIED:20250326T201836Z
UID:10000134-1793826000-1793840400@milltavern.ca
SUMMARY:Karaoke
DESCRIPTION:? Karaoke Night at The Mill Tavern ?\nUnleash your inner rockstar every Wednesday at 9:00 om at The Mill Tavern! Whether you’re a seasoned performer or just here for the laughs\, Karaoke Night is all about good vibes\, great tunes\, and unforgettable memories. Grab the mic\, grab a pint\, and sing your heart out with friends\, family\, or the whole bar cheering you on. \n? Drink specials | ? Huge song selection | ? Laid-back atmosphere \nCome for the music\, stay for the fun. See you at The Mill!
URL:https://milltavern.ca/event/karaoke/2026-11-04/
LOCATION:The Mill Tavern\, 5544 Manotick Main St\, Manotick\, Ontario\, K4M 1A2\, Canada
ATTACH;FMTTYPE=image/jpeg:https://milltavern.ca/wp-content/uploads/2025/03/kane-reinholdtsen-LETdkk7wHQk-unsplash-scaled.jpg
END:VEVENT
BEGIN:VEVENT
DTSTART;TZID=America/New_York:20261107T000000
DTEND;TZID=America/New_York:20261107T235959
DTSTAMP:20260425T002228
CREATED:20260212T201403Z
LAST-MODIFIED:20260212T201403Z
UID:10000410-1794009600-1794095999@milltavern.ca
SUMMARY:Women's Day
DESCRIPTION:
URL:https://milltavern.ca/event/womens-day/
LOCATION:The Mill Tavern\, 5544 Manotick Main St\, Manotick\, Ontario\, K4M 1A2\, Canada
ATTACH;FMTTYPE=image/jpeg:https://milltavern.ca/wp-content/uploads/2026/02/Womens_Day.jpg
END:VEVENT
BEGIN:VEVENT
DTSTART;TZID=America/New_York:20261108T213000
DTEND;TZID=America/New_York:20261109T010000
DTSTAMP:20260425T002228
CREATED:20260212T201733Z
LAST-MODIFIED:20260212T201733Z
UID:10000450-1794173400-1794186000@milltavern.ca
SUMMARY:50% off Appetizers
DESCRIPTION:
URL:https://milltavern.ca/event/50-off-appetizers/2026-11-08/
LOCATION:The Mill Tavern\, 5544 Manotick Main St\, Manotick\, Ontario\, K4M 1A2\, Canada
END:VEVENT
BEGIN:VEVENT
DTSTART;TZID=America/New_York:20261111T210000
DTEND;TZID=America/New_York:20261112T010000
DTSTAMP:20260425T002228
CREATED:20250326T201613Z
LAST-MODIFIED:20250326T201836Z
UID:10000135-1794430800-1794445200@milltavern.ca
SUMMARY:Karaoke
DESCRIPTION:? Karaoke Night at The Mill Tavern ?\nUnleash your inner rockstar every Wednesday at 9:00 om at The Mill Tavern! Whether you’re a seasoned performer or just here for the laughs\, Karaoke Night is all about good vibes\, great tunes\, and unforgettable memories. Grab the mic\, grab a pint\, and sing your heart out with friends\, family\, or the whole bar cheering you on. \n? Drink specials | ? Huge song selection | ? Laid-back atmosphere \nCome for the music\, stay for the fun. See you at The Mill!
URL:https://milltavern.ca/event/karaoke/2026-11-11/
LOCATION:The Mill Tavern\, 5544 Manotick Main St\, Manotick\, Ontario\, K4M 1A2\, Canada
ATTACH;FMTTYPE=image/jpeg:https://milltavern.ca/wp-content/uploads/2025/03/kane-reinholdtsen-LETdkk7wHQk-unsplash-scaled.jpg
END:VEVENT
BEGIN:VEVENT
DTSTART;TZID=America/New_York:20261115T213000
DTEND;TZID=America/New_York:20261116T010000
DTSTAMP:20260425T002228
CREATED:20260212T201733Z
LAST-MODIFIED:20260212T201733Z
UID:10000451-1794778200-1794790800@milltavern.ca
SUMMARY:50% off Appetizers
DESCRIPTION:
URL:https://milltavern.ca/event/50-off-appetizers/2026-11-15/
LOCATION:The Mill Tavern\, 5544 Manotick Main St\, Manotick\, Ontario\, K4M 1A2\, Canada
END:VEVENT
BEGIN:VEVENT
DTSTART;TZID=America/New_York:20261118T210000
DTEND;TZID=America/New_York:20261119T010000
DTSTAMP:20260425T002228
CREATED:20250326T201613Z
LAST-MODIFIED:20250326T201836Z
UID:10000136-1795035600-1795050000@milltavern.ca
SUMMARY:Karaoke
DESCRIPTION:? Karaoke Night at The Mill Tavern ?\nUnleash your inner rockstar every Wednesday at 9:00 om at The Mill Tavern! Whether you’re a seasoned performer or just here for the laughs\, Karaoke Night is all about good vibes\, great tunes\, and unforgettable memories. Grab the mic\, grab a pint\, and sing your heart out with friends\, family\, or the whole bar cheering you on. \n? Drink specials | ? Huge song selection | ? Laid-back atmosphere \nCome for the music\, stay for the fun. See you at The Mill!
URL:https://milltavern.ca/event/karaoke/2026-11-18/
LOCATION:The Mill Tavern\, 5544 Manotick Main St\, Manotick\, Ontario\, K4M 1A2\, Canada
ATTACH;FMTTYPE=image/jpeg:https://milltavern.ca/wp-content/uploads/2025/03/kane-reinholdtsen-LETdkk7wHQk-unsplash-scaled.jpg
END:VEVENT
BEGIN:VEVENT
DTSTART;TZID=America/New_York:20261122T213000
DTEND;TZID=America/New_York:20261123T010000
DTSTAMP:20260425T002228
CREATED:20260212T201733Z
LAST-MODIFIED:20260212T201733Z
UID:10000452-1795383000-1795395600@milltavern.ca
SUMMARY:50% off Appetizers
DESCRIPTION:
URL:https://milltavern.ca/event/50-off-appetizers/2026-11-22/
LOCATION:The Mill Tavern\, 5544 Manotick Main St\, Manotick\, Ontario\, K4M 1A2\, Canada
END:VEVENT
BEGIN:VEVENT
DTSTART;TZID=America/New_York:20261125T210000
DTEND;TZID=America/New_York:20261126T010000
DTSTAMP:20260425T002228
CREATED:20250326T201613Z
LAST-MODIFIED:20250326T201836Z
UID:10000137-1795640400-1795654800@milltavern.ca
SUMMARY:Karaoke
DESCRIPTION:? Karaoke Night at The Mill Tavern ?\nUnleash your inner rockstar every Wednesday at 9:00 om at The Mill Tavern! Whether you’re a seasoned performer or just here for the laughs\, Karaoke Night is all about good vibes\, great tunes\, and unforgettable memories. Grab the mic\, grab a pint\, and sing your heart out with friends\, family\, or the whole bar cheering you on. \n? Drink specials | ? Huge song selection | ? Laid-back atmosphere \nCome for the music\, stay for the fun. See you at The Mill!
URL:https://milltavern.ca/event/karaoke/2026-11-25/
LOCATION:The Mill Tavern\, 5544 Manotick Main St\, Manotick\, Ontario\, K4M 1A2\, Canada
ATTACH;FMTTYPE=image/jpeg:https://milltavern.ca/wp-content/uploads/2025/03/kane-reinholdtsen-LETdkk7wHQk-unsplash-scaled.jpg
END:VEVENT
BEGIN:VEVENT
DTSTART;TZID=America/New_York:20261128T000000
DTEND;TZID=America/New_York:20261128T235959
DTSTAMP:20260425T002228
CREATED:20260212T201450Z
LAST-MODIFIED:20260212T201450Z
UID:10000411-1795824000-1795910399@milltavern.ca
SUMMARY:Christmas in the Village
DESCRIPTION:
URL:https://milltavern.ca/event/christmas-in-the-village/
LOCATION:The Mill Tavern\, 5544 Manotick Main St\, Manotick\, Ontario\, K4M 1A2\, Canada
ATTACH;FMTTYPE=image/png:https://milltavern.ca/wp-content/uploads/2026/02/MBIA-Christmas-Logo.png
END:VEVENT
BEGIN:VEVENT
DTSTART;TZID=America/New_York:20261129T213000
DTEND;TZID=America/New_York:20261130T010000
DTSTAMP:20260425T002228
CREATED:20260212T201733Z
LAST-MODIFIED:20260212T201733Z
UID:10000453-1795987800-1796000400@milltavern.ca
SUMMARY:50% off Appetizers
DESCRIPTION:
URL:https://milltavern.ca/event/50-off-appetizers/2026-11-29/
LOCATION:The Mill Tavern\, 5544 Manotick Main St\, Manotick\, Ontario\, K4M 1A2\, Canada
END:VEVENT
END:VCALENDAR