BEGIN:VCALENDAR
VERSION:2.0
PRODID:-//The Mill Tavern - ECPv6.15.19//NONSGML v1.0//EN
CALSCALE:GREGORIAN
METHOD:PUBLISH
X-WR-CALNAME:The Mill Tavern
X-ORIGINAL-URL:https://milltavern.ca
X-WR-CALDESC:Events for The Mill Tavern
REFRESH-INTERVAL;VALUE=DURATION:PT1H
X-Robots-Tag:noindex
X-PUBLISHED-TTL:PT1H
BEGIN:VTIMEZONE
TZID:America/New_York
BEGIN:DAYLIGHT
TZOFFSETFROM:-0500
TZOFFSETTO:-0400
TZNAME:EDT
DTSTART:20250309T070000
END:DAYLIGHT
BEGIN:STANDARD
TZOFFSETFROM:-0400
TZOFFSETTO:-0500
TZNAME:EST
DTSTART:20251102T060000
END:STANDARD
BEGIN:DAYLIGHT
TZOFFSETFROM:-0500
TZOFFSETTO:-0400
TZNAME:EDT
DTSTART:20260308T070000
END:DAYLIGHT
BEGIN:STANDARD
TZOFFSETFROM:-0400
TZOFFSETTO:-0500
TZNAME:EST
DTSTART:20261101T060000
END:STANDARD
BEGIN:DAYLIGHT
TZOFFSETFROM:-0500
TZOFFSETTO:-0400
TZNAME:EDT
DTSTART:20270314T070000
END:DAYLIGHT
BEGIN:STANDARD
TZOFFSETFROM:-0400
TZOFFSETTO:-0500
TZNAME:EST
DTSTART:20271107T060000
END:STANDARD
END:VTIMEZONE
BEGIN:VEVENT
DTSTART;TZID=America/New_York:20260802T213000
DTEND;TZID=America/New_York:20260803T010000
DTSTAMP:20260424T191852
CREATED:20260212T201733Z
LAST-MODIFIED:20260212T201733Z
UID:10000436-1785706200-1785718800@milltavern.ca
SUMMARY:50% off Appetizers
DESCRIPTION:
URL:https://milltavern.ca/event/50-off-appetizers/2026-08-02/
LOCATION:The Mill Tavern\, 5544 Manotick Main St\, Manotick\, Ontario\, K4M 1A2\, Canada
END:VEVENT
BEGIN:VEVENT
DTSTART;TZID=America/New_York:20260805T210000
DTEND;TZID=America/New_York:20260806T010000
DTSTAMP:20260424T191852
CREATED:20250326T201613Z
LAST-MODIFIED:20250326T201836Z
UID:10000121-1785963600-1785978000@milltavern.ca
SUMMARY:Karaoke
DESCRIPTION:? Karaoke Night at The Mill Tavern ?\nUnleash your inner rockstar every Wednesday at 9:00 om at The Mill Tavern! Whether you’re a seasoned performer or just here for the laughs\, Karaoke Night is all about good vibes\, great tunes\, and unforgettable memories. Grab the mic\, grab a pint\, and sing your heart out with friends\, family\, or the whole bar cheering you on. \n? Drink specials | ? Huge song selection | ? Laid-back atmosphere \nCome for the music\, stay for the fun. See you at The Mill!
URL:https://milltavern.ca/event/karaoke/2026-08-05/
LOCATION:The Mill Tavern\, 5544 Manotick Main St\, Manotick\, Ontario\, K4M 1A2\, Canada
ATTACH;FMTTYPE=image/jpeg:https://milltavern.ca/wp-content/uploads/2025/03/kane-reinholdtsen-LETdkk7wHQk-unsplash-scaled.jpg
END:VEVENT
BEGIN:VEVENT
DTSTART;TZID=America/New_York:20260809T213000
DTEND;TZID=America/New_York:20260810T010000
DTSTAMP:20260424T191852
CREATED:20260212T201733Z
LAST-MODIFIED:20260212T201733Z
UID:10000437-1786311000-1786323600@milltavern.ca
SUMMARY:50% off Appetizers
DESCRIPTION:
URL:https://milltavern.ca/event/50-off-appetizers/2026-08-09/
LOCATION:The Mill Tavern\, 5544 Manotick Main St\, Manotick\, Ontario\, K4M 1A2\, Canada
END:VEVENT
BEGIN:VEVENT
DTSTART;TZID=America/New_York:20260812T210000
DTEND;TZID=America/New_York:20260813T010000
DTSTAMP:20260424T191852
CREATED:20250326T201613Z
LAST-MODIFIED:20250326T201836Z
UID:10000122-1786568400-1786582800@milltavern.ca
SUMMARY:Karaoke
DESCRIPTION:? Karaoke Night at The Mill Tavern ?\nUnleash your inner rockstar every Wednesday at 9:00 om at The Mill Tavern! Whether you’re a seasoned performer or just here for the laughs\, Karaoke Night is all about good vibes\, great tunes\, and unforgettable memories. Grab the mic\, grab a pint\, and sing your heart out with friends\, family\, or the whole bar cheering you on. \n? Drink specials | ? Huge song selection | ? Laid-back atmosphere \nCome for the music\, stay for the fun. See you at The Mill!
URL:https://milltavern.ca/event/karaoke/2026-08-12/
LOCATION:The Mill Tavern\, 5544 Manotick Main St\, Manotick\, Ontario\, K4M 1A2\, Canada
ATTACH;FMTTYPE=image/jpeg:https://milltavern.ca/wp-content/uploads/2025/03/kane-reinholdtsen-LETdkk7wHQk-unsplash-scaled.jpg
END:VEVENT
BEGIN:VEVENT
DTSTART;TZID=America/New_York:20260816T213000
DTEND;TZID=America/New_York:20260817T010000
DTSTAMP:20260424T191852
CREATED:20260212T201733Z
LAST-MODIFIED:20260212T201733Z
UID:10000438-1786915800-1786928400@milltavern.ca
SUMMARY:50% off Appetizers
DESCRIPTION:
URL:https://milltavern.ca/event/50-off-appetizers/2026-08-16/
LOCATION:The Mill Tavern\, 5544 Manotick Main St\, Manotick\, Ontario\, K4M 1A2\, Canada
END:VEVENT
BEGIN:VEVENT
DTSTART;TZID=America/New_York:20260819T210000
DTEND;TZID=America/New_York:20260820T010000
DTSTAMP:20260424T191852
CREATED:20250326T201613Z
LAST-MODIFIED:20250326T201836Z
UID:10000123-1787173200-1787187600@milltavern.ca
SUMMARY:Karaoke
DESCRIPTION:? Karaoke Night at The Mill Tavern ?\nUnleash your inner rockstar every Wednesday at 9:00 om at The Mill Tavern! Whether you’re a seasoned performer or just here for the laughs\, Karaoke Night is all about good vibes\, great tunes\, and unforgettable memories. Grab the mic\, grab a pint\, and sing your heart out with friends\, family\, or the whole bar cheering you on. \n? Drink specials | ? Huge song selection | ? Laid-back atmosphere \nCome for the music\, stay for the fun. See you at The Mill!
URL:https://milltavern.ca/event/karaoke/2026-08-19/
LOCATION:The Mill Tavern\, 5544 Manotick Main St\, Manotick\, Ontario\, K4M 1A2\, Canada
ATTACH;FMTTYPE=image/jpeg:https://milltavern.ca/wp-content/uploads/2025/03/kane-reinholdtsen-LETdkk7wHQk-unsplash-scaled.jpg
END:VEVENT
BEGIN:VEVENT
DTSTART;TZID=America/New_York:20260823T213000
DTEND;TZID=America/New_York:20260824T010000
DTSTAMP:20260424T191852
CREATED:20260212T201733Z
LAST-MODIFIED:20260212T201733Z
UID:10000439-1787520600-1787533200@milltavern.ca
SUMMARY:50% off Appetizers
DESCRIPTION:
URL:https://milltavern.ca/event/50-off-appetizers/2026-08-23/
LOCATION:The Mill Tavern\, 5544 Manotick Main St\, Manotick\, Ontario\, K4M 1A2\, Canada
END:VEVENT
BEGIN:VEVENT
DTSTART;TZID=America/New_York:20260826T210000
DTEND;TZID=America/New_York:20260827T010000
DTSTAMP:20260424T191852
CREATED:20250326T201613Z
LAST-MODIFIED:20250326T201836Z
UID:10000124-1787778000-1787792400@milltavern.ca
SUMMARY:Karaoke
DESCRIPTION:? Karaoke Night at The Mill Tavern ?\nUnleash your inner rockstar every Wednesday at 9:00 om at The Mill Tavern! Whether you’re a seasoned performer or just here for the laughs\, Karaoke Night is all about good vibes\, great tunes\, and unforgettable memories. Grab the mic\, grab a pint\, and sing your heart out with friends\, family\, or the whole bar cheering you on. \n? Drink specials | ? Huge song selection | ? Laid-back atmosphere \nCome for the music\, stay for the fun. See you at The Mill!
URL:https://milltavern.ca/event/karaoke/2026-08-26/
LOCATION:The Mill Tavern\, 5544 Manotick Main St\, Manotick\, Ontario\, K4M 1A2\, Canada
ATTACH;FMTTYPE=image/jpeg:https://milltavern.ca/wp-content/uploads/2025/03/kane-reinholdtsen-LETdkk7wHQk-unsplash-scaled.jpg
END:VEVENT
BEGIN:VEVENT
DTSTART;TZID=America/New_York:20260830T213000
DTEND;TZID=America/New_York:20260831T010000
DTSTAMP:20260424T191852
CREATED:20260212T201733Z
LAST-MODIFIED:20260212T201733Z
UID:10000440-1788125400-1788138000@milltavern.ca
SUMMARY:50% off Appetizers
DESCRIPTION:
URL:https://milltavern.ca/event/50-off-appetizers/2026-08-30/
LOCATION:The Mill Tavern\, 5544 Manotick Main St\, Manotick\, Ontario\, K4M 1A2\, Canada
END:VEVENT
END:VCALENDAR