BEGIN:VCALENDAR
VERSION:2.0
PRODID:-//The Mill Tavern - ECPv6.15.19//NONSGML v1.0//EN
CALSCALE:GREGORIAN
METHOD:PUBLISH
X-ORIGINAL-URL:https://milltavern.ca
X-WR-CALDESC:Events for The Mill Tavern
REFRESH-INTERVAL;VALUE=DURATION:PT1H
X-Robots-Tag:noindex
X-PUBLISHED-TTL:PT1H
BEGIN:VTIMEZONE
TZID:America/New_York
BEGIN:DAYLIGHT
TZOFFSETFROM:-0500
TZOFFSETTO:-0400
TZNAME:EDT
DTSTART:20250309T070000
END:DAYLIGHT
BEGIN:STANDARD
TZOFFSETFROM:-0400
TZOFFSETTO:-0500
TZNAME:EST
DTSTART:20251102T060000
END:STANDARD
BEGIN:DAYLIGHT
TZOFFSETFROM:-0500
TZOFFSETTO:-0400
TZNAME:EDT
DTSTART:20260308T070000
END:DAYLIGHT
BEGIN:STANDARD
TZOFFSETFROM:-0400
TZOFFSETTO:-0500
TZNAME:EST
DTSTART:20261101T060000
END:STANDARD
BEGIN:DAYLIGHT
TZOFFSETFROM:-0500
TZOFFSETTO:-0400
TZNAME:EDT
DTSTART:20270314T070000
END:DAYLIGHT
BEGIN:STANDARD
TZOFFSETFROM:-0400
TZOFFSETTO:-0500
TZNAME:EST
DTSTART:20271107T060000
END:STANDARD
END:VTIMEZONE
BEGIN:VEVENT
DTSTART;TZID=America/New_York:20260701T210000
DTEND;TZID=America/New_York:20260702T010000
DTSTAMP:20260424T173451
CREATED:20250326T201613Z
LAST-MODIFIED:20250326T201836Z
UID:10000116-1782939600-1782954000@milltavern.ca
SUMMARY:Karaoke
DESCRIPTION:? Karaoke Night at The Mill Tavern ?\nUnleash your inner rockstar every Wednesday at 9:00 om at The Mill Tavern! Whether you’re a seasoned performer or just here for the laughs\, Karaoke Night is all about good vibes\, great tunes\, and unforgettable memories. Grab the mic\, grab a pint\, and sing your heart out with friends\, family\, or the whole bar cheering you on. \n? Drink specials | ? Huge song selection | ? Laid-back atmosphere \nCome for the music\, stay for the fun. See you at The Mill!
URL:https://milltavern.ca/event/karaoke/2026-07-01/
LOCATION:The Mill Tavern\, 5544 Manotick Main St\, Manotick\, Ontario\, K4M 1A2\, Canada
ATTACH;FMTTYPE=image/jpeg:https://milltavern.ca/wp-content/uploads/2025/03/kane-reinholdtsen-LETdkk7wHQk-unsplash-scaled.jpg
END:VEVENT
BEGIN:VEVENT
DTSTART;TZID=America/New_York:20260703T213000
DTEND;TZID=America/New_York:20260704T010000
DTSTAMP:20260424T173451
CREATED:20260212T200331Z
LAST-MODIFIED:20260212T200331Z
UID:10000399-1783114200-1783126800@milltavern.ca
SUMMARY:Asif Lslam
DESCRIPTION:
URL:https://milltavern.ca/event/asif-lslam/
LOCATION:The Mill Tavern\, 5544 Manotick Main St\, Manotick\, Ontario\, K4M 1A2\, Canada
CATEGORIES:Live Music
END:VEVENT
BEGIN:VEVENT
DTSTART;TZID=America/New_York:20260704T213000
DTEND;TZID=America/New_York:20260705T010000
DTSTAMP:20260424T173451
CREATED:20260212T200424Z
LAST-MODIFIED:20260212T200424Z
UID:10000400-1783200600-1783213200@milltavern.ca
SUMMARY:Ryan O'Neill
DESCRIPTION:
URL:https://milltavern.ca/event/ryan-oneill/
LOCATION:The Mill Tavern\, 5544 Manotick Main St\, Manotick\, Ontario\, K4M 1A2\, Canada
CATEGORIES:Live Music
END:VEVENT
BEGIN:VEVENT
DTSTART;TZID=America/New_York:20260705T213000
DTEND;TZID=America/New_York:20260706T010000
DTSTAMP:20260424T173451
CREATED:20260212T201733Z
LAST-MODIFIED:20260212T201733Z
UID:10000432-1783287000-1783299600@milltavern.ca
SUMMARY:50% off Appetizers
DESCRIPTION:
URL:https://milltavern.ca/event/50-off-appetizers/2026-07-05/
LOCATION:The Mill Tavern\, 5544 Manotick Main St\, Manotick\, Ontario\, K4M 1A2\, Canada
END:VEVENT
BEGIN:VEVENT
DTSTART;TZID=America/New_York:20260708T210000
DTEND;TZID=America/New_York:20260709T010000
DTSTAMP:20260424T173451
CREATED:20250326T201613Z
LAST-MODIFIED:20250326T201836Z
UID:10000117-1783544400-1783558800@milltavern.ca
SUMMARY:Karaoke
DESCRIPTION:? Karaoke Night at The Mill Tavern ?\nUnleash your inner rockstar every Wednesday at 9:00 om at The Mill Tavern! Whether you’re a seasoned performer or just here for the laughs\, Karaoke Night is all about good vibes\, great tunes\, and unforgettable memories. Grab the mic\, grab a pint\, and sing your heart out with friends\, family\, or the whole bar cheering you on. \n? Drink specials | ? Huge song selection | ? Laid-back atmosphere \nCome for the music\, stay for the fun. See you at The Mill!
URL:https://milltavern.ca/event/karaoke/2026-07-08/
LOCATION:The Mill Tavern\, 5544 Manotick Main St\, Manotick\, Ontario\, K4M 1A2\, Canada
ATTACH;FMTTYPE=image/jpeg:https://milltavern.ca/wp-content/uploads/2025/03/kane-reinholdtsen-LETdkk7wHQk-unsplash-scaled.jpg
END:VEVENT
BEGIN:VEVENT
DTSTART;TZID=America/New_York:20260710T213000
DTEND;TZID=America/New_York:20260711T010000
DTSTAMP:20260424T173451
CREATED:20260212T200523Z
LAST-MODIFIED:20260212T200523Z
UID:10000401-1783719000-1783731600@milltavern.ca
SUMMARY:Darin Hayduk
DESCRIPTION:
URL:https://milltavern.ca/event/darin-hayduk-2/
LOCATION:The Mill Tavern\, 5544 Manotick Main St\, Manotick\, Ontario\, K4M 1A2\, Canada
CATEGORIES:Live Music
END:VEVENT
BEGIN:VEVENT
DTSTART;TZID=America/New_York:20260711T213000
DTEND;TZID=America/New_York:20260712T010000
DTSTAMP:20260424T173451
CREATED:20260212T200603Z
LAST-MODIFIED:20260212T200603Z
UID:10000402-1783805400-1783818000@milltavern.ca
SUMMARY:Justin Gow
DESCRIPTION:
URL:https://milltavern.ca/event/justin-gow/
LOCATION:The Mill Tavern\, 5544 Manotick Main St\, Manotick\, Ontario\, K4M 1A2\, Canada
CATEGORIES:Live Music
END:VEVENT
BEGIN:VEVENT
DTSTART;TZID=America/New_York:20260712T213000
DTEND;TZID=America/New_York:20260713T010000
DTSTAMP:20260424T173451
CREATED:20260212T201733Z
LAST-MODIFIED:20260212T201733Z
UID:10000433-1783891800-1783904400@milltavern.ca
SUMMARY:50% off Appetizers
DESCRIPTION:
URL:https://milltavern.ca/event/50-off-appetizers/2026-07-12/
LOCATION:The Mill Tavern\, 5544 Manotick Main St\, Manotick\, Ontario\, K4M 1A2\, Canada
END:VEVENT
BEGIN:VEVENT
DTSTART;TZID=America/New_York:20260715T210000
DTEND;TZID=America/New_York:20260716T010000
DTSTAMP:20260424T173451
CREATED:20250326T201613Z
LAST-MODIFIED:20250326T201836Z
UID:10000118-1784149200-1784163600@milltavern.ca
SUMMARY:Karaoke
DESCRIPTION:? Karaoke Night at The Mill Tavern ?\nUnleash your inner rockstar every Wednesday at 9:00 om at The Mill Tavern! Whether you’re a seasoned performer or just here for the laughs\, Karaoke Night is all about good vibes\, great tunes\, and unforgettable memories. Grab the mic\, grab a pint\, and sing your heart out with friends\, family\, or the whole bar cheering you on. \n? Drink specials | ? Huge song selection | ? Laid-back atmosphere \nCome for the music\, stay for the fun. See you at The Mill!
URL:https://milltavern.ca/event/karaoke/2026-07-15/
LOCATION:The Mill Tavern\, 5544 Manotick Main St\, Manotick\, Ontario\, K4M 1A2\, Canada
ATTACH;FMTTYPE=image/jpeg:https://milltavern.ca/wp-content/uploads/2025/03/kane-reinholdtsen-LETdkk7wHQk-unsplash-scaled.jpg
END:VEVENT
BEGIN:VEVENT
DTSTART;TZID=America/New_York:20260717T213000
DTEND;TZID=America/New_York:20260718T010000
DTSTAMP:20260424T173451
CREATED:20260212T200710Z
LAST-MODIFIED:20260212T200710Z
UID:10000403-1784323800-1784336400@milltavern.ca
SUMMARY:Birds of a Feather
DESCRIPTION:
URL:https://milltavern.ca/event/birds-of-a-feather-4/
LOCATION:The Mill Tavern\, 5544 Manotick Main St\, Manotick\, Ontario\, K4M 1A2\, Canada
CATEGORIES:Live Music
END:VEVENT
BEGIN:VEVENT
DTSTART;TZID=America/New_York:20260718T213000
DTEND;TZID=America/New_York:20260719T010000
DTSTAMP:20260424T173451
CREATED:20260212T200759Z
LAST-MODIFIED:20260212T200759Z
UID:10000404-1784410200-1784422800@milltavern.ca
SUMMARY:Brock Tinsley
DESCRIPTION:
URL:https://milltavern.ca/event/brock-tinsley/
LOCATION:The Mill Tavern\, 5544 Manotick Main St\, Manotick\, Ontario\, K4M 1A2\, Canada
END:VEVENT
BEGIN:VEVENT
DTSTART;TZID=America/New_York:20260719T213000
DTEND;TZID=America/New_York:20260720T010000
DTSTAMP:20260424T173451
CREATED:20260212T201733Z
LAST-MODIFIED:20260212T201733Z
UID:10000434-1784496600-1784509200@milltavern.ca
SUMMARY:50% off Appetizers
DESCRIPTION:
URL:https://milltavern.ca/event/50-off-appetizers/2026-07-19/
LOCATION:The Mill Tavern\, 5544 Manotick Main St\, Manotick\, Ontario\, K4M 1A2\, Canada
END:VEVENT
BEGIN:VEVENT
DTSTART;TZID=America/New_York:20260722T210000
DTEND;TZID=America/New_York:20260723T010000
DTSTAMP:20260424T173451
CREATED:20250326T201613Z
LAST-MODIFIED:20250326T201836Z
UID:10000119-1784754000-1784768400@milltavern.ca
SUMMARY:Karaoke
DESCRIPTION:? Karaoke Night at The Mill Tavern ?\nUnleash your inner rockstar every Wednesday at 9:00 om at The Mill Tavern! Whether you’re a seasoned performer or just here for the laughs\, Karaoke Night is all about good vibes\, great tunes\, and unforgettable memories. Grab the mic\, grab a pint\, and sing your heart out with friends\, family\, or the whole bar cheering you on. \n? Drink specials | ? Huge song selection | ? Laid-back atmosphere \nCome for the music\, stay for the fun. See you at The Mill!
URL:https://milltavern.ca/event/karaoke/2026-07-22/
LOCATION:The Mill Tavern\, 5544 Manotick Main St\, Manotick\, Ontario\, K4M 1A2\, Canada
ATTACH;FMTTYPE=image/jpeg:https://milltavern.ca/wp-content/uploads/2025/03/kane-reinholdtsen-LETdkk7wHQk-unsplash-scaled.jpg
END:VEVENT
BEGIN:VEVENT
DTSTART;TZID=America/New_York:20260724T213000
DTEND;TZID=America/New_York:20260725T010000
DTSTAMP:20260424T173451
CREATED:20260212T200853Z
LAST-MODIFIED:20260212T200853Z
UID:10000405-1784928600-1784941200@milltavern.ca
SUMMARY:Nicholas Straccini
DESCRIPTION:
URL:https://milltavern.ca/event/nicholas-straccini/
LOCATION:The Mill Tavern\, 5544 Manotick Main St\, Manotick\, Ontario\, K4M 1A2\, Canada
CATEGORIES:Live Music
END:VEVENT
BEGIN:VEVENT
DTSTART;TZID=America/New_York:20260725T213000
DTEND;TZID=America/New_York:20260726T010000
DTSTAMP:20260424T173451
CREATED:20260212T200932Z
LAST-MODIFIED:20260212T200932Z
UID:10000406-1785015000-1785027600@milltavern.ca
SUMMARY:Fabien melanson
DESCRIPTION:
URL:https://milltavern.ca/event/fabien-melanson-4/
LOCATION:The Mill Tavern\, 5544 Manotick Main St\, Manotick\, Ontario\, K4M 1A2\, Canada
CATEGORIES:Live Music
END:VEVENT
BEGIN:VEVENT
DTSTART;TZID=America/New_York:20260726T213000
DTEND;TZID=America/New_York:20260727T010000
DTSTAMP:20260424T173451
CREATED:20260212T201733Z
LAST-MODIFIED:20260212T201733Z
UID:10000435-1785101400-1785114000@milltavern.ca
SUMMARY:50% off Appetizers
DESCRIPTION:
URL:https://milltavern.ca/event/50-off-appetizers/2026-07-26/
LOCATION:The Mill Tavern\, 5544 Manotick Main St\, Manotick\, Ontario\, K4M 1A2\, Canada
END:VEVENT
BEGIN:VEVENT
DTSTART;TZID=America/New_York:20260729T210000
DTEND;TZID=America/New_York:20260730T010000
DTSTAMP:20260424T173451
CREATED:20250326T201613Z
LAST-MODIFIED:20250326T201836Z
UID:10000120-1785358800-1785373200@milltavern.ca
SUMMARY:Karaoke
DESCRIPTION:? Karaoke Night at The Mill Tavern ?\nUnleash your inner rockstar every Wednesday at 9:00 om at The Mill Tavern! Whether you’re a seasoned performer or just here for the laughs\, Karaoke Night is all about good vibes\, great tunes\, and unforgettable memories. Grab the mic\, grab a pint\, and sing your heart out with friends\, family\, or the whole bar cheering you on. \n? Drink specials | ? Huge song selection | ? Laid-back atmosphere \nCome for the music\, stay for the fun. See you at The Mill!
URL:https://milltavern.ca/event/karaoke/2026-07-29/
LOCATION:The Mill Tavern\, 5544 Manotick Main St\, Manotick\, Ontario\, K4M 1A2\, Canada
ATTACH;FMTTYPE=image/jpeg:https://milltavern.ca/wp-content/uploads/2025/03/kane-reinholdtsen-LETdkk7wHQk-unsplash-scaled.jpg
END:VEVENT
END:VCALENDAR