BEGIN:VCALENDAR
VERSION:2.0
PRODID:-//The Mill Tavern - ECPv6.15.19//NONSGML v1.0//EN
CALSCALE:GREGORIAN
METHOD:PUBLISH
X-WR-CALNAME:The Mill Tavern
X-ORIGINAL-URL:https://milltavern.ca
X-WR-CALDESC:Events for The Mill Tavern
REFRESH-INTERVAL;VALUE=DURATION:PT1H
X-Robots-Tag:noindex
X-PUBLISHED-TTL:PT1H
BEGIN:VTIMEZONE
TZID:America/New_York
BEGIN:DAYLIGHT
TZOFFSETFROM:-0500
TZOFFSETTO:-0400
TZNAME:EDT
DTSTART:20240310T070000
END:DAYLIGHT
BEGIN:STANDARD
TZOFFSETFROM:-0400
TZOFFSETTO:-0500
TZNAME:EST
DTSTART:20241103T060000
END:STANDARD
BEGIN:DAYLIGHT
TZOFFSETFROM:-0500
TZOFFSETTO:-0400
TZNAME:EDT
DTSTART:20250309T070000
END:DAYLIGHT
BEGIN:STANDARD
TZOFFSETFROM:-0400
TZOFFSETTO:-0500
TZNAME:EST
DTSTART:20251102T060000
END:STANDARD
BEGIN:DAYLIGHT
TZOFFSETFROM:-0500
TZOFFSETTO:-0400
TZNAME:EDT
DTSTART:20260308T070000
END:DAYLIGHT
BEGIN:STANDARD
TZOFFSETFROM:-0400
TZOFFSETTO:-0500
TZNAME:EST
DTSTART:20261101T060000
END:STANDARD
BEGIN:DAYLIGHT
TZOFFSETFROM:-0500
TZOFFSETTO:-0400
TZNAME:EDT
DTSTART:20270314T070000
END:DAYLIGHT
BEGIN:STANDARD
TZOFFSETFROM:-0400
TZOFFSETTO:-0500
TZNAME:EST
DTSTART:20271107T060000
END:STANDARD
END:VTIMEZONE
BEGIN:VTIMEZONE
TZID:America/Toronto
BEGIN:DAYLIGHT
TZOFFSETFROM:-0500
TZOFFSETTO:-0400
TZNAME:EDT
DTSTART:20240310T070000
END:DAYLIGHT
BEGIN:STANDARD
TZOFFSETFROM:-0400
TZOFFSETTO:-0500
TZNAME:EST
DTSTART:20241103T060000
END:STANDARD
BEGIN:DAYLIGHT
TZOFFSETFROM:-0500
TZOFFSETTO:-0400
TZNAME:EDT
DTSTART:20250309T070000
END:DAYLIGHT
BEGIN:STANDARD
TZOFFSETFROM:-0400
TZOFFSETTO:-0500
TZNAME:EST
DTSTART:20251102T060000
END:STANDARD
BEGIN:DAYLIGHT
TZOFFSETFROM:-0500
TZOFFSETTO:-0400
TZNAME:EDT
DTSTART:20260308T070000
END:DAYLIGHT
BEGIN:STANDARD
TZOFFSETFROM:-0400
TZOFFSETTO:-0500
TZNAME:EST
DTSTART:20261101T060000
END:STANDARD
END:VTIMEZONE
BEGIN:VEVENT
DTSTART;TZID=America/New_York:20251203T210000
DTEND;TZID=America/New_York:20251204T010000
DTSTAMP:20260424T191852
CREATED:20250326T201613Z
LAST-MODIFIED:20250326T201836Z
UID:10000086-1764795600-1764810000@milltavern.ca
SUMMARY:Karaoke
DESCRIPTION:? Karaoke Night at The Mill Tavern ?\nUnleash your inner rockstar every Wednesday at 9:00 om at The Mill Tavern! Whether you’re a seasoned performer or just here for the laughs\, Karaoke Night is all about good vibes\, great tunes\, and unforgettable memories. Grab the mic\, grab a pint\, and sing your heart out with friends\, family\, or the whole bar cheering you on. \n? Drink specials | ? Huge song selection | ? Laid-back atmosphere \nCome for the music\, stay for the fun. See you at The Mill!
URL:https://milltavern.ca/event/karaoke/2025-12-03/
LOCATION:The Mill Tavern\, 5544 Manotick Main St\, Manotick\, Ontario\, K4M 1A2\, Canada
ATTACH;FMTTYPE=image/jpeg:https://milltavern.ca/wp-content/uploads/2025/03/kane-reinholdtsen-LETdkk7wHQk-unsplash-scaled.jpg
END:VEVENT
BEGIN:VEVENT
DTSTART;TZID=America/Toronto:20251204T170000
DTEND;TZID=America/Toronto:20251204T233000
DTSTAMP:20260424T191852
CREATED:20250326T195601Z
LAST-MODIFIED:20250330T155317Z
UID:10000046-1764867600-1764891000@milltavern.ca
SUMMARY:Cheese Night – Get a $5 Cheese Platter!
DESCRIPTION:Join us for Cheese Night and indulge in a delicious $5 cheese platter with friends! Dine-in only and gratuity not included.\n\n\nThursday Cheese Night: $5 Cheese Platter – Every Thursday at The Mill Tavern \nWind down your week with wine and cheese. Join us every Thursday night at 5:00 PM at The Mill Tavern in Manotick (5544 Manotick Main St) and enjoy an individual cheese platter for just $5 when you purchase a beverage. \nIt’s the perfect pairing with our Thursday wine special — $3.50 per glass\, available all evening long. Come for the cheese\, stay for the wine\, and make it your new Thursday tradition. \nHere’s what you need to know: \n\nEach $5 ticket gets you one individual cheese platter.\nA beverage purchase is required per person — wine\, cocktails\, or non-alcoholic options.\nLimit one $5 cheese platter per customer per Thursday. Tickets must be used by the purchaser.\nDine-in only. No takeout or take-home containers for leftovers.\nStarts at 5:00 PM every Thursday.\n\nIt’s a relaxed\, flavour-filled evening that’s quickly becoming a local favourite. Grab a friend\, grab a glass\, and join us this Thursday night at The Mill.
URL:https://milltavern.ca/event/cheese-night-get-a-5-cheese-platter-37/
LOCATION:5544 Manotick Main St\, 5544 Manotick Main Street\, Ottawa\, ON\, K4M 1L6\, Canada
ATTACH;FMTTYPE=image/jpeg:https://milltavern.ca/wp-content/uploads/2025/03/3a2e4575c0a834427b0945d4044eb8c5-ViQqBX.tmp_.jpg
END:VEVENT
BEGIN:VEVENT
DTSTART;TZID=America/New_York:20251210T210000
DTEND;TZID=America/New_York:20251211T010000
DTSTAMP:20260424T191852
CREATED:20250326T201613Z
LAST-MODIFIED:20250326T201836Z
UID:10000087-1765400400-1765414800@milltavern.ca
SUMMARY:Karaoke
DESCRIPTION:? Karaoke Night at The Mill Tavern ?\nUnleash your inner rockstar every Wednesday at 9:00 om at The Mill Tavern! Whether you’re a seasoned performer or just here for the laughs\, Karaoke Night is all about good vibes\, great tunes\, and unforgettable memories. Grab the mic\, grab a pint\, and sing your heart out with friends\, family\, or the whole bar cheering you on. \n? Drink specials | ? Huge song selection | ? Laid-back atmosphere \nCome for the music\, stay for the fun. See you at The Mill!
URL:https://milltavern.ca/event/karaoke/2025-12-10/
LOCATION:The Mill Tavern\, 5544 Manotick Main St\, Manotick\, Ontario\, K4M 1A2\, Canada
ATTACH;FMTTYPE=image/jpeg:https://milltavern.ca/wp-content/uploads/2025/03/kane-reinholdtsen-LETdkk7wHQk-unsplash-scaled.jpg
END:VEVENT
BEGIN:VEVENT
DTSTART;TZID=America/Toronto:20251211T170000
DTEND;TZID=America/Toronto:20251211T233000
DTSTAMP:20260424T191852
CREATED:20250326T195602Z
LAST-MODIFIED:20250330T155318Z
UID:10000047-1765472400-1765495800@milltavern.ca
SUMMARY:Cheese Night – Get a $5 Cheese Platter!
DESCRIPTION:Join us for Cheese Night and indulge in a delicious $5 cheese platter with friends! Dine-in only and gratuity not included.\n\n\nThursday Cheese Night: $5 Cheese Platter – Every Thursday at The Mill Tavern \nWind down your week with wine and cheese. Join us every Thursday night at 5:00 PM at The Mill Tavern in Manotick (5544 Manotick Main St) and enjoy an individual cheese platter for just $5 when you purchase a beverage. \nIt’s the perfect pairing with our Thursday wine special — $3.50 per glass\, available all evening long. Come for the cheese\, stay for the wine\, and make it your new Thursday tradition. \nHere’s what you need to know: \n\nEach $5 ticket gets you one individual cheese platter.\nA beverage purchase is required per person — wine\, cocktails\, or non-alcoholic options.\nLimit one $5 cheese platter per customer per Thursday. Tickets must be used by the purchaser.\nDine-in only. No takeout or take-home containers for leftovers.\nStarts at 5:00 PM every Thursday.\n\nIt’s a relaxed\, flavour-filled evening that’s quickly becoming a local favourite. Grab a friend\, grab a glass\, and join us this Thursday night at The Mill.
URL:https://milltavern.ca/event/cheese-night-get-a-5-cheese-platter-38/
LOCATION:5544 Manotick Main St\, 5544 Manotick Main Street\, Ottawa\, ON\, K4M 1L6\, Canada
ATTACH;FMTTYPE=image/jpeg:https://milltavern.ca/wp-content/uploads/2025/03/3a2e4575c0a834427b0945d4044eb8c5-ViQqBX.tmp_.jpg
END:VEVENT
BEGIN:VEVENT
DTSTART;TZID=America/New_York:20251217T210000
DTEND;TZID=America/New_York:20251218T010000
DTSTAMP:20260424T191852
CREATED:20250326T201613Z
LAST-MODIFIED:20250326T201836Z
UID:10000088-1766005200-1766019600@milltavern.ca
SUMMARY:Karaoke
DESCRIPTION:? Karaoke Night at The Mill Tavern ?\nUnleash your inner rockstar every Wednesday at 9:00 om at The Mill Tavern! Whether you’re a seasoned performer or just here for the laughs\, Karaoke Night is all about good vibes\, great tunes\, and unforgettable memories. Grab the mic\, grab a pint\, and sing your heart out with friends\, family\, or the whole bar cheering you on. \n? Drink specials | ? Huge song selection | ? Laid-back atmosphere \nCome for the music\, stay for the fun. See you at The Mill!
URL:https://milltavern.ca/event/karaoke/2025-12-17/
LOCATION:The Mill Tavern\, 5544 Manotick Main St\, Manotick\, Ontario\, K4M 1A2\, Canada
ATTACH;FMTTYPE=image/jpeg:https://milltavern.ca/wp-content/uploads/2025/03/kane-reinholdtsen-LETdkk7wHQk-unsplash-scaled.jpg
END:VEVENT
BEGIN:VEVENT
DTSTART;TZID=America/Toronto:20251218T170000
DTEND;TZID=America/Toronto:20251218T233000
DTSTAMP:20260424T191852
CREATED:20250326T195602Z
LAST-MODIFIED:20250330T155318Z
UID:10000048-1766077200-1766100600@milltavern.ca
SUMMARY:Cheese Night – Get a $5 Cheese Platter!
DESCRIPTION:Join us for Cheese Night and indulge in a delicious $5 cheese platter with friends! Dine-in only and gratuity not included.\n\n\nThursday Cheese Night: $5 Cheese Platter – Every Thursday at The Mill Tavern \nWind down your week with wine and cheese. Join us every Thursday night at 5:00 PM at The Mill Tavern in Manotick (5544 Manotick Main St) and enjoy an individual cheese platter for just $5 when you purchase a beverage. \nIt’s the perfect pairing with our Thursday wine special — $3.50 per glass\, available all evening long. Come for the cheese\, stay for the wine\, and make it your new Thursday tradition. \nHere’s what you need to know: \n\nEach $5 ticket gets you one individual cheese platter.\nA beverage purchase is required per person — wine\, cocktails\, or non-alcoholic options.\nLimit one $5 cheese platter per customer per Thursday. Tickets must be used by the purchaser.\nDine-in only. No takeout or take-home containers for leftovers.\nStarts at 5:00 PM every Thursday.\n\nIt’s a relaxed\, flavour-filled evening that’s quickly becoming a local favourite. Grab a friend\, grab a glass\, and join us this Thursday night at The Mill.
URL:https://milltavern.ca/event/cheese-night-get-a-5-cheese-platter-39/
LOCATION:5544 Manotick Main St\, 5544 Manotick Main Street\, Ottawa\, ON\, K4M 1L6\, Canada
ATTACH;FMTTYPE=image/jpeg:https://milltavern.ca/wp-content/uploads/2025/03/3a2e4575c0a834427b0945d4044eb8c5-ViQqBX.tmp_.jpg
END:VEVENT
BEGIN:VEVENT
DTSTART;TZID=America/New_York:20251224T210000
DTEND;TZID=America/New_York:20251225T010000
DTSTAMP:20260424T191852
CREATED:20250326T201613Z
LAST-MODIFIED:20250326T201836Z
UID:10000089-1766610000-1766624400@milltavern.ca
SUMMARY:Karaoke
DESCRIPTION:? Karaoke Night at The Mill Tavern ?\nUnleash your inner rockstar every Wednesday at 9:00 om at The Mill Tavern! Whether you’re a seasoned performer or just here for the laughs\, Karaoke Night is all about good vibes\, great tunes\, and unforgettable memories. Grab the mic\, grab a pint\, and sing your heart out with friends\, family\, or the whole bar cheering you on. \n? Drink specials | ? Huge song selection | ? Laid-back atmosphere \nCome for the music\, stay for the fun. See you at The Mill!
URL:https://milltavern.ca/event/karaoke/2025-12-24/
LOCATION:The Mill Tavern\, 5544 Manotick Main St\, Manotick\, Ontario\, K4M 1A2\, Canada
ATTACH;FMTTYPE=image/jpeg:https://milltavern.ca/wp-content/uploads/2025/03/kane-reinholdtsen-LETdkk7wHQk-unsplash-scaled.jpg
END:VEVENT
BEGIN:VEVENT
DTSTART;TZID=America/New_York:20251231T210000
DTEND;TZID=America/New_York:20260101T010000
DTSTAMP:20260424T191852
CREATED:20250326T201613Z
LAST-MODIFIED:20250326T201836Z
UID:10000090-1767214800-1767229200@milltavern.ca
SUMMARY:Karaoke
DESCRIPTION:? Karaoke Night at The Mill Tavern ?\nUnleash your inner rockstar every Wednesday at 9:00 om at The Mill Tavern! Whether you’re a seasoned performer or just here for the laughs\, Karaoke Night is all about good vibes\, great tunes\, and unforgettable memories. Grab the mic\, grab a pint\, and sing your heart out with friends\, family\, or the whole bar cheering you on. \n? Drink specials | ? Huge song selection | ? Laid-back atmosphere \nCome for the music\, stay for the fun. See you at The Mill!
URL:https://milltavern.ca/event/karaoke/2025-12-31/
LOCATION:The Mill Tavern\, 5544 Manotick Main St\, Manotick\, Ontario\, K4M 1A2\, Canada
ATTACH;FMTTYPE=image/jpeg:https://milltavern.ca/wp-content/uploads/2025/03/kane-reinholdtsen-LETdkk7wHQk-unsplash-scaled.jpg
END:VEVENT
END:VCALENDAR