BEGIN:VCALENDAR
VERSION:2.0
PRODID:-//The Mill Tavern - ECPv6.15.19//NONSGML v1.0//EN
CALSCALE:GREGORIAN
METHOD:PUBLISH
X-WR-CALNAME:The Mill Tavern
X-ORIGINAL-URL:https://milltavern.ca
X-WR-CALDESC:Events for The Mill Tavern
REFRESH-INTERVAL;VALUE=DURATION:PT1H
X-Robots-Tag:noindex
X-PUBLISHED-TTL:PT1H
BEGIN:VTIMEZONE
TZID:America/New_York
BEGIN:DAYLIGHT
TZOFFSETFROM:-0500
TZOFFSETTO:-0400
TZNAME:EDT
DTSTART:20240310T070000
END:DAYLIGHT
BEGIN:STANDARD
TZOFFSETFROM:-0400
TZOFFSETTO:-0500
TZNAME:EST
DTSTART:20241103T060000
END:STANDARD
BEGIN:DAYLIGHT
TZOFFSETFROM:-0500
TZOFFSETTO:-0400
TZNAME:EDT
DTSTART:20250309T070000
END:DAYLIGHT
BEGIN:STANDARD
TZOFFSETFROM:-0400
TZOFFSETTO:-0500
TZNAME:EST
DTSTART:20251102T060000
END:STANDARD
BEGIN:DAYLIGHT
TZOFFSETFROM:-0500
TZOFFSETTO:-0400
TZNAME:EDT
DTSTART:20260308T070000
END:DAYLIGHT
BEGIN:STANDARD
TZOFFSETFROM:-0400
TZOFFSETTO:-0500
TZNAME:EST
DTSTART:20261101T060000
END:STANDARD
END:VTIMEZONE
BEGIN:VTIMEZONE
TZID:America/Toronto
BEGIN:DAYLIGHT
TZOFFSETFROM:-0500
TZOFFSETTO:-0400
TZNAME:EDT
DTSTART:20240310T070000
END:DAYLIGHT
BEGIN:STANDARD
TZOFFSETFROM:-0400
TZOFFSETTO:-0500
TZNAME:EST
DTSTART:20241103T060000
END:STANDARD
BEGIN:DAYLIGHT
TZOFFSETFROM:-0500
TZOFFSETTO:-0400
TZNAME:EDT
DTSTART:20250309T070000
END:DAYLIGHT
BEGIN:STANDARD
TZOFFSETFROM:-0400
TZOFFSETTO:-0500
TZNAME:EST
DTSTART:20251102T060000
END:STANDARD
BEGIN:DAYLIGHT
TZOFFSETFROM:-0500
TZOFFSETTO:-0400
TZNAME:EDT
DTSTART:20260308T070000
END:DAYLIGHT
BEGIN:STANDARD
TZOFFSETFROM:-0400
TZOFFSETTO:-0500
TZNAME:EST
DTSTART:20261101T060000
END:STANDARD
END:VTIMEZONE
BEGIN:VEVENT
DTSTART;TZID=America/New_York:20251105T210000
DTEND;TZID=America/New_York:20251106T010000
DTSTAMP:20260424T210958
CREATED:20250326T201613Z
LAST-MODIFIED:20250326T201836Z
UID:10000082-1762376400-1762390800@milltavern.ca
SUMMARY:Karaoke
DESCRIPTION:? Karaoke Night at The Mill Tavern ?\nUnleash your inner rockstar every Wednesday at 9:00 om at The Mill Tavern! Whether you’re a seasoned performer or just here for the laughs\, Karaoke Night is all about good vibes\, great tunes\, and unforgettable memories. Grab the mic\, grab a pint\, and sing your heart out with friends\, family\, or the whole bar cheering you on. \n? Drink specials | ? Huge song selection | ? Laid-back atmosphere \nCome for the music\, stay for the fun. See you at The Mill!
URL:https://milltavern.ca/event/karaoke/2025-11-05/
LOCATION:The Mill Tavern\, 5544 Manotick Main St\, Manotick\, Ontario\, K4M 1A2\, Canada
ATTACH;FMTTYPE=image/jpeg:https://milltavern.ca/wp-content/uploads/2025/03/kane-reinholdtsen-LETdkk7wHQk-unsplash-scaled.jpg
END:VEVENT
BEGIN:VEVENT
DTSTART;TZID=America/Toronto:20251106T170000
DTEND;TZID=America/Toronto:20251106T233000
DTSTAMP:20260424T210958
CREATED:20250326T195600Z
LAST-MODIFIED:20250330T155316Z
UID:10000042-1762448400-1762471800@milltavern.ca
SUMMARY:Cheese Night – Get a $5 Cheese Platter!
DESCRIPTION:Join us for Cheese Night and indulge in a delicious $5 cheese platter with friends! Dine-in only and gratuity not included.\n\n\nThursday Cheese Night: $5 Cheese Platter – Every Thursday at The Mill Tavern \nWind down your week with wine and cheese. Join us every Thursday night at 5:00 PM at The Mill Tavern in Manotick (5544 Manotick Main St) and enjoy an individual cheese platter for just $5 when you purchase a beverage. \nIt’s the perfect pairing with our Thursday wine special — $3.50 per glass\, available all evening long. Come for the cheese\, stay for the wine\, and make it your new Thursday tradition. \nHere’s what you need to know: \n\nEach $5 ticket gets you one individual cheese platter.\nA beverage purchase is required per person — wine\, cocktails\, or non-alcoholic options.\nLimit one $5 cheese platter per customer per Thursday. Tickets must be used by the purchaser.\nDine-in only. No takeout or take-home containers for leftovers.\nStarts at 5:00 PM every Thursday.\n\nIt’s a relaxed\, flavour-filled evening that’s quickly becoming a local favourite. Grab a friend\, grab a glass\, and join us this Thursday night at The Mill.
URL:https://milltavern.ca/event/cheese-night-get-a-5-cheese-platter-33/
LOCATION:5544 Manotick Main St\, 5544 Manotick Main Street\, Ottawa\, ON\, K4M 1L6\, Canada
ATTACH;FMTTYPE=image/jpeg:https://milltavern.ca/wp-content/uploads/2025/03/3a2e4575c0a834427b0945d4044eb8c5-ViQqBX.tmp_.jpg
END:VEVENT
BEGIN:VEVENT
DTSTART;TZID=America/New_York:20251112T210000
DTEND;TZID=America/New_York:20251113T010000
DTSTAMP:20260424T210958
CREATED:20250326T201613Z
LAST-MODIFIED:20250326T201836Z
UID:10000083-1762981200-1762995600@milltavern.ca
SUMMARY:Karaoke
DESCRIPTION:? Karaoke Night at The Mill Tavern ?\nUnleash your inner rockstar every Wednesday at 9:00 om at The Mill Tavern! Whether you’re a seasoned performer or just here for the laughs\, Karaoke Night is all about good vibes\, great tunes\, and unforgettable memories. Grab the mic\, grab a pint\, and sing your heart out with friends\, family\, or the whole bar cheering you on. \n? Drink specials | ? Huge song selection | ? Laid-back atmosphere \nCome for the music\, stay for the fun. See you at The Mill!
URL:https://milltavern.ca/event/karaoke/2025-11-12/
LOCATION:The Mill Tavern\, 5544 Manotick Main St\, Manotick\, Ontario\, K4M 1A2\, Canada
ATTACH;FMTTYPE=image/jpeg:https://milltavern.ca/wp-content/uploads/2025/03/kane-reinholdtsen-LETdkk7wHQk-unsplash-scaled.jpg
END:VEVENT
BEGIN:VEVENT
DTSTART;TZID=America/Toronto:20251113T170000
DTEND;TZID=America/Toronto:20251113T233000
DTSTAMP:20260424T210958
CREATED:20250326T195600Z
LAST-MODIFIED:20250330T155317Z
UID:10000043-1763053200-1763076600@milltavern.ca
SUMMARY:Cheese Night – Get a $5 Cheese Platter!
DESCRIPTION:Join us for Cheese Night and indulge in a delicious $5 cheese platter with friends! Dine-in only and gratuity not included.\n\n\nThursday Cheese Night: $5 Cheese Platter – Every Thursday at The Mill Tavern \nWind down your week with wine and cheese. Join us every Thursday night at 5:00 PM at The Mill Tavern in Manotick (5544 Manotick Main St) and enjoy an individual cheese platter for just $5 when you purchase a beverage. \nIt’s the perfect pairing with our Thursday wine special — $3.50 per glass\, available all evening long. Come for the cheese\, stay for the wine\, and make it your new Thursday tradition. \nHere’s what you need to know: \n\nEach $5 ticket gets you one individual cheese platter.\nA beverage purchase is required per person — wine\, cocktails\, or non-alcoholic options.\nLimit one $5 cheese platter per customer per Thursday. Tickets must be used by the purchaser.\nDine-in only. No takeout or take-home containers for leftovers.\nStarts at 5:00 PM every Thursday.\n\nIt’s a relaxed\, flavour-filled evening that’s quickly becoming a local favourite. Grab a friend\, grab a glass\, and join us this Thursday night at The Mill.
URL:https://milltavern.ca/event/cheese-night-get-a-5-cheese-platter-34/
LOCATION:5544 Manotick Main St\, 5544 Manotick Main Street\, Ottawa\, ON\, K4M 1L6\, Canada
ATTACH;FMTTYPE=image/jpeg:https://milltavern.ca/wp-content/uploads/2025/03/3a2e4575c0a834427b0945d4044eb8c5-ViQqBX.tmp_.jpg
END:VEVENT
BEGIN:VEVENT
DTSTART;TZID=America/New_York:20251119T210000
DTEND;TZID=America/New_York:20251120T010000
DTSTAMP:20260424T210958
CREATED:20250326T201613Z
LAST-MODIFIED:20250326T201836Z
UID:10000084-1763586000-1763600400@milltavern.ca
SUMMARY:Karaoke
DESCRIPTION:? Karaoke Night at The Mill Tavern ?\nUnleash your inner rockstar every Wednesday at 9:00 om at The Mill Tavern! Whether you’re a seasoned performer or just here for the laughs\, Karaoke Night is all about good vibes\, great tunes\, and unforgettable memories. Grab the mic\, grab a pint\, and sing your heart out with friends\, family\, or the whole bar cheering you on. \n? Drink specials | ? Huge song selection | ? Laid-back atmosphere \nCome for the music\, stay for the fun. See you at The Mill!
URL:https://milltavern.ca/event/karaoke/2025-11-19/
LOCATION:The Mill Tavern\, 5544 Manotick Main St\, Manotick\, Ontario\, K4M 1A2\, Canada
ATTACH;FMTTYPE=image/jpeg:https://milltavern.ca/wp-content/uploads/2025/03/kane-reinholdtsen-LETdkk7wHQk-unsplash-scaled.jpg
END:VEVENT
BEGIN:VEVENT
DTSTART;TZID=America/Toronto:20251120T170000
DTEND;TZID=America/Toronto:20251120T233000
DTSTAMP:20260424T210958
CREATED:20250326T195601Z
LAST-MODIFIED:20250330T155317Z
UID:10000044-1763658000-1763681400@milltavern.ca
SUMMARY:Cheese Night – Get a $5 Cheese Platter!
DESCRIPTION:Join us for Cheese Night and indulge in a delicious $5 cheese platter with friends! Dine-in only and gratuity not included.\n\n\nThursday Cheese Night: $5 Cheese Platter – Every Thursday at The Mill Tavern \nWind down your week with wine and cheese. Join us every Thursday night at 5:00 PM at The Mill Tavern in Manotick (5544 Manotick Main St) and enjoy an individual cheese platter for just $5 when you purchase a beverage. \nIt’s the perfect pairing with our Thursday wine special — $3.50 per glass\, available all evening long. Come for the cheese\, stay for the wine\, and make it your new Thursday tradition. \nHere’s what you need to know: \n\nEach $5 ticket gets you one individual cheese platter.\nA beverage purchase is required per person — wine\, cocktails\, or non-alcoholic options.\nLimit one $5 cheese platter per customer per Thursday. Tickets must be used by the purchaser.\nDine-in only. No takeout or take-home containers for leftovers.\nStarts at 5:00 PM every Thursday.\n\nIt’s a relaxed\, flavour-filled evening that’s quickly becoming a local favourite. Grab a friend\, grab a glass\, and join us this Thursday night at The Mill.
URL:https://milltavern.ca/event/cheese-night-get-a-5-cheese-platter-35/
LOCATION:5544 Manotick Main St\, 5544 Manotick Main Street\, Ottawa\, ON\, K4M 1L6\, Canada
ATTACH;FMTTYPE=image/jpeg:https://milltavern.ca/wp-content/uploads/2025/03/3a2e4575c0a834427b0945d4044eb8c5-ViQqBX.tmp_.jpg
END:VEVENT
BEGIN:VEVENT
DTSTART;TZID=America/New_York:20251126T210000
DTEND;TZID=America/New_York:20251127T010000
DTSTAMP:20260424T210958
CREATED:20250326T201613Z
LAST-MODIFIED:20250326T201836Z
UID:10000085-1764190800-1764205200@milltavern.ca
SUMMARY:Karaoke
DESCRIPTION:? Karaoke Night at The Mill Tavern ?\nUnleash your inner rockstar every Wednesday at 9:00 om at The Mill Tavern! Whether you’re a seasoned performer or just here for the laughs\, Karaoke Night is all about good vibes\, great tunes\, and unforgettable memories. Grab the mic\, grab a pint\, and sing your heart out with friends\, family\, or the whole bar cheering you on. \n? Drink specials | ? Huge song selection | ? Laid-back atmosphere \nCome for the music\, stay for the fun. See you at The Mill!
URL:https://milltavern.ca/event/karaoke/2025-11-26/
LOCATION:The Mill Tavern\, 5544 Manotick Main St\, Manotick\, Ontario\, K4M 1A2\, Canada
ATTACH;FMTTYPE=image/jpeg:https://milltavern.ca/wp-content/uploads/2025/03/kane-reinholdtsen-LETdkk7wHQk-unsplash-scaled.jpg
END:VEVENT
BEGIN:VEVENT
DTSTART;TZID=America/Toronto:20251127T170000
DTEND;TZID=America/Toronto:20251127T233000
DTSTAMP:20260424T210958
CREATED:20250326T195601Z
LAST-MODIFIED:20250330T155317Z
UID:10000045-1764262800-1764286200@milltavern.ca
SUMMARY:Cheese Night – Get a $5 Cheese Platter!
DESCRIPTION:Join us for Cheese Night and indulge in a delicious $5 cheese platter with friends! Dine-in only and gratuity not included.\n\n\nThursday Cheese Night: $5 Cheese Platter – Every Thursday at The Mill Tavern \nWind down your week with wine and cheese. Join us every Thursday night at 5:00 PM at The Mill Tavern in Manotick (5544 Manotick Main St) and enjoy an individual cheese platter for just $5 when you purchase a beverage. \nIt’s the perfect pairing with our Thursday wine special — $3.50 per glass\, available all evening long. Come for the cheese\, stay for the wine\, and make it your new Thursday tradition. \nHere’s what you need to know: \n\nEach $5 ticket gets you one individual cheese platter.\nA beverage purchase is required per person — wine\, cocktails\, or non-alcoholic options.\nLimit one $5 cheese platter per customer per Thursday. Tickets must be used by the purchaser.\nDine-in only. No takeout or take-home containers for leftovers.\nStarts at 5:00 PM every Thursday.\n\nIt’s a relaxed\, flavour-filled evening that’s quickly becoming a local favourite. Grab a friend\, grab a glass\, and join us this Thursday night at The Mill.
URL:https://milltavern.ca/event/cheese-night-get-a-5-cheese-platter-36/
LOCATION:5544 Manotick Main St\, 5544 Manotick Main Street\, Ottawa\, ON\, K4M 1L6\, Canada
ATTACH;FMTTYPE=image/jpeg:https://milltavern.ca/wp-content/uploads/2025/03/3a2e4575c0a834427b0945d4044eb8c5-ViQqBX.tmp_.jpg
END:VEVENT
END:VCALENDAR