BEGIN:VCALENDAR
VERSION:2.0
PRODID:-//The Mill Tavern - ECPv6.15.19//NONSGML v1.0//EN
CALSCALE:GREGORIAN
METHOD:PUBLISH
X-ORIGINAL-URL:https://milltavern.ca
X-WR-CALDESC:Events for The Mill Tavern
REFRESH-INTERVAL;VALUE=DURATION:PT1H
X-Robots-Tag:noindex
X-PUBLISHED-TTL:PT1H
BEGIN:VTIMEZONE
TZID:America/Toronto
BEGIN:DAYLIGHT
TZOFFSETFROM:-0500
TZOFFSETTO:-0400
TZNAME:EDT
DTSTART:20240310T070000
END:DAYLIGHT
BEGIN:STANDARD
TZOFFSETFROM:-0400
TZOFFSETTO:-0500
TZNAME:EST
DTSTART:20241103T060000
END:STANDARD
BEGIN:DAYLIGHT
TZOFFSETFROM:-0500
TZOFFSETTO:-0400
TZNAME:EDT
DTSTART:20250309T070000
END:DAYLIGHT
BEGIN:STANDARD
TZOFFSETFROM:-0400
TZOFFSETTO:-0500
TZNAME:EST
DTSTART:20251102T060000
END:STANDARD
BEGIN:DAYLIGHT
TZOFFSETFROM:-0500
TZOFFSETTO:-0400
TZNAME:EDT
DTSTART:20260308T070000
END:DAYLIGHT
BEGIN:STANDARD
TZOFFSETFROM:-0400
TZOFFSETTO:-0500
TZNAME:EST
DTSTART:20261101T060000
END:STANDARD
END:VTIMEZONE
BEGIN:VTIMEZONE
TZID:America/New_York
BEGIN:DAYLIGHT
TZOFFSETFROM:-0500
TZOFFSETTO:-0400
TZNAME:EDT
DTSTART:20240310T070000
END:DAYLIGHT
BEGIN:STANDARD
TZOFFSETFROM:-0400
TZOFFSETTO:-0500
TZNAME:EST
DTSTART:20241103T060000
END:STANDARD
BEGIN:DAYLIGHT
TZOFFSETFROM:-0500
TZOFFSETTO:-0400
TZNAME:EDT
DTSTART:20250309T070000
END:DAYLIGHT
BEGIN:STANDARD
TZOFFSETFROM:-0400
TZOFFSETTO:-0500
TZNAME:EST
DTSTART:20251102T060000
END:STANDARD
BEGIN:DAYLIGHT
TZOFFSETFROM:-0500
TZOFFSETTO:-0400
TZNAME:EDT
DTSTART:20260308T070000
END:DAYLIGHT
BEGIN:STANDARD
TZOFFSETFROM:-0400
TZOFFSETTO:-0500
TZNAME:EST
DTSTART:20261101T060000
END:STANDARD
END:VTIMEZONE
BEGIN:VEVENT
DTSTART;TZID=America/Toronto:20250403T170000
DTEND;TZID=America/Toronto:20250403T233000
DTSTAMP:20260425T001143
CREATED:20250326T195548Z
LAST-MODIFIED:20250404T010617Z
UID:10000011-1743699600-1743723000@milltavern.ca
SUMMARY:Cheese Night – Get a $5 Cheese Platter!
DESCRIPTION:Join us for Cheese Night and indulge in a delicious $5 cheese platter with friends! Dine-in only and gratuity not included.\n\n\nThursday Cheese Night: $5 Cheese Platter – Every Thursday at The Mill Tavern \nWind down your week with wine and cheese. Join us every Thursday night at 5:00 PM at The Mill Tavern in Manotick (5544 Manotick Main St) and enjoy an individual cheese platter for just $5 when you purchase a beverage. \nIt’s the perfect pairing with our Thursday wine special — $3.50 per glass\, available all evening long. Come for the cheese\, stay for the wine\, and make it your new Thursday tradition. \nHere’s what you need to know: \n\nEach $5 ticket gets you one individual cheese platter.\nA beverage purchase is required per person — wine\, cocktails\, or non-alcoholic options.\nLimit one $5 cheese platter per customer per Thursday. Tickets must be used by the purchaser.\nDine-in only. No takeout or take-home containers for leftovers.\nStarts at 5:00 PM every Thursday.\n\nIt’s a relaxed\, flavour-filled evening that’s quickly becoming a local favourite. Grab a friend\, grab a glass\, and join us this Thursday night at The Mill.
URL:https://milltavern.ca/event/cheese-night-get-a-5-cheese-platter-2/
LOCATION:5544 Manotick Main St\, 5544 Manotick Main Street\, Ottawa\, ON\, K4M 1L6\, Canada
ATTACH;FMTTYPE=image/jpeg:https://milltavern.ca/wp-content/uploads/2025/03/3a2e4575c0a834427b0945d4044eb8c5-ViQqBX.tmp_.jpg
END:VEVENT
BEGIN:VEVENT
DTSTART;TZID=America/Toronto:20250401T110000
DTEND;TZID=America/Toronto:20250401T233000
DTSTAMP:20260425T001143
CREATED:20250326T195547Z
LAST-MODIFIED:20250401T022920Z
UID:10000010-1743505200-1743550200@milltavern.ca
SUMMARY:Taco Tuesday at The Mill Tavern – 2 Fish Tacos for $12
DESCRIPTION:Enjoy 2 delicious fish tacos for just $12 with beverage purchase. Dine-in only\, all day every Tuesday at The Mill Tavern.\n\n\nTaco Tuesday: 2 Fish Tacos for $12 — Every Tuesday at The Mill Tavern \nJoin us every Tuesday at The Mill Tavern in Manotick (5544 Manotick Main St) for a delicious midweek treat:2 flavour-packed fish tacos for just $12\, available all day long with the purchase of a beverage. \nIt’s the perfect way to shake up your Tuesday with something fresh\, light\, and full of flavour. \nHere’s what you need to know: \n\nEach $12 ticket includes 2 fish tacos.\nA beverage purchase is required per person — alcoholic or non-alcoholic.\nLimit one $12 taco deal per customer per Tuesday. Tickets must be used by the purchaser.\nDine-in only. No takeout or take-home containers for leftovers.\nAvailable all day every Tuesday.\n\nTaco Tuesday is a hit in Manotick — come hungry and make it part of your weekly routine.
URL:https://milltavern.ca/event/taco-tuesday-at-the-mill-tavern-2-fish-tacos-for-12/
LOCATION:5544 Manotick Main St\, 5544 Manotick Main Street\, Ottawa\, ON\, K4M 1L6\, Canada
ATTACH;FMTTYPE=image/jpeg:https://milltavern.ca/wp-content/uploads/2025/03/a33ca7db7f34e71ac79e8442be31bd65-DzJtx2.tmp_.jpg
END:VEVENT
BEGIN:VEVENT
DTSTART;TZID=America/Toronto:20250331T113000
DTEND;TZID=America/Toronto:20250401T013000
DTSTAMP:20260425T001143
CREATED:20250326T195545Z
LAST-MODIFIED:20250330T155309Z
UID:10000008-1743420600-1743471000@milltavern.ca
SUMMARY:Burger with 1lb Wings for only $5 in Ottawa!
DESCRIPTION:Get Mondays ready for the ultimate feast with a 1lb Wing & Burger Madness\, only for $5 only. *With the purchase of a beverage\, dine in only.\n\n\nMonday Madness: Burger & Wings for $5 — Every Monday Night at The Mill Tavern \nMake your Mondays something to look forward to. Join us every Monday night at The Mill Tavern in Manotick (5544 Manotick Main St) for our most mouth-watering deal of the week:A juicy burger and a full pound of wings for just $5 — with the purchase of a beverage. \nThe deal kicks off at 5:00 PM every Monday\, and it’s first come\, first served — so bring your appetite and grab a seat! \nHere’s what you need to know: \n\n$5 gets you one burger and one pound of wings.\nA beverage purchase is required per person — alcoholic or non-alcoholic.\nLimit one $5 deal per customer per Monday. Tickets must be used by the purchaser.\nWant more? Additional burgers and wings can be ordered in-house at our regular Monday special pricing.\nDine-in only. No takeout or take-home containers for leftovers.\n\nIt’s a local favourite for a reason — great food\, great atmosphere\, and unbeatable value. See you Monday night at The Mill!
URL:https://milltavern.ca/event/burger-with-1lb-wings-for-only-5-in-ottawa/
LOCATION:5544 Manotick Main St\, 5544 Manotick Main Street\, Ottawa\, ON\, K4M 1L6\, Canada
ATTACH;FMTTYPE=image/jpeg:https://milltavern.ca/wp-content/uploads/2025/03/b9e9ec3760faa803798a1d5a9d9e2aa3-XKsjSh.tmp_.jpg
END:VEVENT
BEGIN:VEVENT
DTSTART;TZID=America/New_York:20250329T213000
DTEND;TZID=America/New_York:20250329T213000
DTSTAMP:20260425T001143
CREATED:20250326T193302Z
LAST-MODIFIED:20250326T202824Z
UID:10000002-1743283800-1743283800@milltavern.ca
SUMMARY:Live Music - Paul McCormack
DESCRIPTION:
URL:https://milltavern.ca/event/live-music-paul-mccormack/
LOCATION:The Mill Tavern\, 5544 Manotick Main St\, Manotick\, Ontario\, K4M 1A2\, Canada
CATEGORIES:Live Music
ATTACH;FMTTYPE=image/jpeg:https://milltavern.ca/wp-content/uploads/2025/03/matheus-ferrero-RxpqZBBevKg-unsplash-scaled.jpg
END:VEVENT
BEGIN:VEVENT
DTSTART;TZID=America/New_York:20250328T210000
DTEND;TZID=America/New_York:20250329T003000
DTSTAMP:20260425T001143
CREATED:20250326T202059Z
LAST-MODIFIED:20250326T202846Z
UID:10000001-1743195600-1743208200@milltavern.ca
SUMMARY:Live Music - Johnny Franco
DESCRIPTION:? Live Music at The Mill Tavern ? \nThere’s nothing like the energy of live music—and at The Mill Tavern\, we bring the vibes. From local talent to crowd-favorite bands\, our stage is home to good tunes\, cold drinks\, and great company. Whether you’re here to dance\, chill\, or discover your next favorite artist\, The Mill is where music and community come together. \nPull up a seat\, order your favorite drink\, and let the music take over.
URL:https://milltavern.ca/event/live-music-johnny-franco/
LOCATION:The Mill Tavern\, 5544 Manotick Main St\, Manotick\, Ontario\, K4M 1A2\, Canada
ATTACH;FMTTYPE=image/jpeg:https://milltavern.ca/wp-content/uploads/2025/03/matheus-ferrero-RxpqZBBevKg-unsplash-scaled.jpg
END:VEVENT
BEGIN:VEVENT
DTSTART;TZID=America/Toronto:20250327T170000
DTEND;TZID=America/Toronto:20250327T233000
DTSTAMP:20260425T001143
CREATED:20250326T195544Z
LAST-MODIFIED:20250327T195723Z
UID:10000007-1743094800-1743118200@milltavern.ca
SUMMARY:Cheese Night – Get a $5 Cheese Platter!
DESCRIPTION:Join us for Cheese Night and indulge in a delicious $5 cheese platter with friends! Dine-in only and gratuity not included.\n\n\nThursday Cheese Night: $5 Cheese Platter – Every Thursday at The Mill Tavern \nWind down your week with wine and cheese. Join us every Thursday night at 5:00 PM at The Mill Tavern in Manotick (5544 Manotick Main St) and enjoy an individual cheese platter for just $5 when you purchase a beverage. \nIt’s the perfect pairing with our Thursday wine special — $3.50 per glass\, available all evening long. Come for the cheese\, stay for the wine\, and make it your new Thursday tradition. \nHere’s what you need to know: \n\nEach $5 ticket gets you one individual cheese platter.\nA beverage purchase is required per person — wine\, cocktails\, or non-alcoholic options.\nLimit one $5 cheese platter per customer per Thursday. Tickets must be used by the purchaser.\nDine-in only. No takeout or take-home containers for leftovers.\nStarts at 5:00 PM every Thursday.\n\nIt’s a relaxed\, flavour-filled evening that’s quickly becoming a local favourite. Grab a friend\, grab a glass\, and join us this Thursday night at The Mill.
URL:https://milltavern.ca/event/cheese-night-get-a-5-cheese-platter/
LOCATION:5544 Manotick Main St\, 5544 Manotick Main Street\, Ottawa\, ON\, K4M 1L6\, Canada
ATTACH;FMTTYPE=image/jpeg:https://milltavern.ca/wp-content/uploads/2025/03/3a2e4575c0a834427b0945d4044eb8c5-ViQqBX.tmp_.jpg
END:VEVENT
END:VCALENDAR