BEGIN:VCALENDAR
VERSION:2.0
PRODID:-//The Mill Tavern - ECPv6.15.19//NONSGML v1.0//EN
CALSCALE:GREGORIAN
METHOD:PUBLISH
X-ORIGINAL-URL:https://milltavern.ca
X-WR-CALDESC:Events for The Mill Tavern
REFRESH-INTERVAL;VALUE=DURATION:PT1H
X-Robots-Tag:noindex
X-PUBLISHED-TTL:PT1H
BEGIN:VTIMEZONE
TZID:America/New_York
BEGIN:DAYLIGHT
TZOFFSETFROM:-0500
TZOFFSETTO:-0400
TZNAME:EDT
DTSTART:20250309T070000
END:DAYLIGHT
BEGIN:STANDARD
TZOFFSETFROM:-0400
TZOFFSETTO:-0500
TZNAME:EST
DTSTART:20251102T060000
END:STANDARD
BEGIN:DAYLIGHT
TZOFFSETFROM:-0500
TZOFFSETTO:-0400
TZNAME:EDT
DTSTART:20260308T070000
END:DAYLIGHT
BEGIN:STANDARD
TZOFFSETFROM:-0400
TZOFFSETTO:-0500
TZNAME:EST
DTSTART:20261101T060000
END:STANDARD
BEGIN:DAYLIGHT
TZOFFSETFROM:-0500
TZOFFSETTO:-0400
TZNAME:EDT
DTSTART:20270314T070000
END:DAYLIGHT
BEGIN:STANDARD
TZOFFSETFROM:-0400
TZOFFSETTO:-0500
TZNAME:EST
DTSTART:20271107T060000
END:STANDARD
END:VTIMEZONE
BEGIN:VEVENT
DTSTART;TZID=America/New_York:20260530T213000
DTEND;TZID=America/New_York:20260531T010000
DTSTAMP:20260425T065035
CREATED:20260212T195429Z
LAST-MODIFIED:20260212T195429Z
UID:10000390-1780176600-1780189200@milltavern.ca
SUMMARY:Stuart Hoopfer
DESCRIPTION:
URL:https://milltavern.ca/event/stuart-hoopfer/
LOCATION:The Mill Tavern\, 5544 Manotick Main St\, Manotick\, Ontario\, K4M 1A2\, Canada
CATEGORIES:Live Music
END:VEVENT
BEGIN:VEVENT
DTSTART;TZID=America/New_York:20260604T000000
DTEND;TZID=America/New_York:20260607T235959
DTSTAMP:20260425T065035
CREATED:20260212T201218Z
LAST-MODIFIED:20260212T201218Z
UID:10000408-1780531200-1780876799@milltavern.ca
SUMMARY:Dickinson Days
DESCRIPTION:
URL:https://milltavern.ca/event/dickinson-days/
LOCATION:The Mill Tavern\, 5544 Manotick Main St\, Manotick\, Ontario\, K4M 1A2\, Canada
ATTACH;FMTTYPE=image/jpeg:https://milltavern.ca/wp-content/uploads/2026/02/Dickinson_Days_Logo-SQ.jpg
END:VEVENT
BEGIN:VEVENT
DTSTART;TZID=America/New_York:20260605T213000
DTEND;TZID=America/New_York:20260606T010000
DTSTAMP:20260425T065035
CREATED:20260212T195528Z
LAST-MODIFIED:20260212T195528Z
UID:10000391-1780695000-1780707600@milltavern.ca
SUMMARY:Paddy Paystub
DESCRIPTION:
URL:https://milltavern.ca/event/paddy-paystub-2/
LOCATION:The Mill Tavern\, 5544 Manotick Main St\, Manotick\, Ontario\, K4M 1A2\, Canada
CATEGORIES:Live Music
END:VEVENT
BEGIN:VEVENT
DTSTART;TZID=America/New_York:20260606T213000
DTEND;TZID=America/New_York:20260607T010000
DTSTAMP:20260425T065035
CREATED:20260212T195628Z
LAST-MODIFIED:20260212T195628Z
UID:10000392-1780781400-1780794000@milltavern.ca
SUMMARY:Cameron Beaudry
DESCRIPTION:
URL:https://milltavern.ca/event/cameron-beaudry/
LOCATION:The Mill Tavern\, 5544 Manotick Main St\, Manotick\, Ontario\, K4M 1A2\, Canada
CATEGORIES:Live Music
END:VEVENT
BEGIN:VEVENT
DTSTART;TZID=America/New_York:20260612T213000
DTEND;TZID=America/New_York:20260613T010000
DTSTAMP:20260425T065035
CREATED:20260212T195740Z
LAST-MODIFIED:20260212T195740Z
UID:10000393-1781299800-1781312400@milltavern.ca
SUMMARY:Nathan Da Silva
DESCRIPTION:
URL:https://milltavern.ca/event/nathan-da-silva-2/
LOCATION:The Mill Tavern\, 5544 Manotick Main St\, Manotick\, Ontario\, K4M 1A2\, Canada
CATEGORIES:Live Music
END:VEVENT
BEGIN:VEVENT
DTSTART;TZID=America/New_York:20260613T213000
DTEND;TZID=America/New_York:20260614T010000
DTSTAMP:20260425T065035
CREATED:20260212T195839Z
LAST-MODIFIED:20260212T195839Z
UID:10000394-1781386200-1781398800@milltavern.ca
SUMMARY:Birds of a Feather
DESCRIPTION:
URL:https://milltavern.ca/event/birds-of-a-feather-3/
LOCATION:The Mill Tavern\, 5544 Manotick Main St\, Manotick\, Ontario\, K4M 1A2\, Canada
CATEGORIES:Live Music
END:VEVENT
BEGIN:VEVENT
DTSTART;TZID=America/New_York:20260619T213000
DTEND;TZID=America/New_York:20260620T013000
DTSTAMP:20260425T065035
CREATED:20260212T195932Z
LAST-MODIFIED:20260212T195932Z
UID:10000395-1781904600-1781919000@milltavern.ca
SUMMARY:Nim Wemigwans
DESCRIPTION:
URL:https://milltavern.ca/event/nim-wemigwans-3/
LOCATION:The Mill Tavern\, 5544 Manotick Main St\, Manotick\, Ontario\, K4M 1A2\, Canada
CATEGORIES:Live Music
END:VEVENT
BEGIN:VEVENT
DTSTART;TZID=America/New_York:20260620T213000
DTEND;TZID=America/New_York:20260621T010000
DTSTAMP:20260425T065035
CREATED:20260212T200005Z
LAST-MODIFIED:20260212T200005Z
UID:10000396-1781991000-1782003600@milltavern.ca
SUMMARY:Ryan King
DESCRIPTION:
URL:https://milltavern.ca/event/ryan-king-5/
LOCATION:The Mill Tavern\, 5544 Manotick Main St\, Manotick\, Ontario\, K4M 1A2\, Canada
END:VEVENT
BEGIN:VEVENT
DTSTART;TZID=America/New_York:20260626T213000
DTEND;TZID=America/New_York:20260627T010000
DTSTAMP:20260425T065035
CREATED:20260212T200115Z
LAST-MODIFIED:20260212T200115Z
UID:10000397-1782509400-1782522000@milltavern.ca
SUMMARY:Terry Lavineway
DESCRIPTION:d
URL:https://milltavern.ca/event/terry-lavineway/
LOCATION:The Mill Tavern\, 5544 Manotick Main St\, Manotick\, Ontario\, K4M 1A2\, Canada
CATEGORIES:Live Music
END:VEVENT
BEGIN:VEVENT
DTSTART;TZID=America/New_York:20260627T213000
DTEND;TZID=America/New_York:20260628T010000
DTSTAMP:20260425T065035
CREATED:20260212T200203Z
LAST-MODIFIED:20260212T200203Z
UID:10000398-1782595800-1782608400@milltavern.ca
SUMMARY:Gomez No last name
DESCRIPTION:
URL:https://milltavern.ca/event/gomez-no-last-name-2/
LOCATION:The Mill Tavern\, 5544 Manotick Main St\, Manotick\, Ontario\, K4M 1A2\, Canada
CATEGORIES:Food & Beverage
END:VEVENT
BEGIN:VEVENT
DTSTART;TZID=America/New_York:20260703T213000
DTEND;TZID=America/New_York:20260704T010000
DTSTAMP:20260425T065035
CREATED:20260212T200331Z
LAST-MODIFIED:20260212T200331Z
UID:10000399-1783114200-1783126800@milltavern.ca
SUMMARY:Asif Lslam
DESCRIPTION:
URL:https://milltavern.ca/event/asif-lslam/
LOCATION:The Mill Tavern\, 5544 Manotick Main St\, Manotick\, Ontario\, K4M 1A2\, Canada
CATEGORIES:Live Music
END:VEVENT
BEGIN:VEVENT
DTSTART;TZID=America/New_York:20260704T213000
DTEND;TZID=America/New_York:20260705T010000
DTSTAMP:20260425T065035
CREATED:20260212T200424Z
LAST-MODIFIED:20260212T200424Z
UID:10000400-1783200600-1783213200@milltavern.ca
SUMMARY:Ryan O'Neill
DESCRIPTION:
URL:https://milltavern.ca/event/ryan-oneill/
LOCATION:The Mill Tavern\, 5544 Manotick Main St\, Manotick\, Ontario\, K4M 1A2\, Canada
CATEGORIES:Live Music
END:VEVENT
BEGIN:VEVENT
DTSTART;TZID=America/New_York:20260710T213000
DTEND;TZID=America/New_York:20260711T010000
DTSTAMP:20260425T065035
CREATED:20260212T200523Z
LAST-MODIFIED:20260212T200523Z
UID:10000401-1783719000-1783731600@milltavern.ca
SUMMARY:Darin Hayduk
DESCRIPTION:
URL:https://milltavern.ca/event/darin-hayduk-2/
LOCATION:The Mill Tavern\, 5544 Manotick Main St\, Manotick\, Ontario\, K4M 1A2\, Canada
CATEGORIES:Live Music
END:VEVENT
BEGIN:VEVENT
DTSTART;TZID=America/New_York:20260711T213000
DTEND;TZID=America/New_York:20260712T010000
DTSTAMP:20260425T065035
CREATED:20260212T200603Z
LAST-MODIFIED:20260212T200603Z
UID:10000402-1783805400-1783818000@milltavern.ca
SUMMARY:Justin Gow
DESCRIPTION:
URL:https://milltavern.ca/event/justin-gow/
LOCATION:The Mill Tavern\, 5544 Manotick Main St\, Manotick\, Ontario\, K4M 1A2\, Canada
CATEGORIES:Live Music
END:VEVENT
BEGIN:VEVENT
DTSTART;TZID=America/New_York:20260717T213000
DTEND;TZID=America/New_York:20260718T010000
DTSTAMP:20260425T065035
CREATED:20260212T200710Z
LAST-MODIFIED:20260212T200710Z
UID:10000403-1784323800-1784336400@milltavern.ca
SUMMARY:Birds of a Feather
DESCRIPTION:
URL:https://milltavern.ca/event/birds-of-a-feather-4/
LOCATION:The Mill Tavern\, 5544 Manotick Main St\, Manotick\, Ontario\, K4M 1A2\, Canada
CATEGORIES:Live Music
END:VEVENT
BEGIN:VEVENT
DTSTART;TZID=America/New_York:20260718T213000
DTEND;TZID=America/New_York:20260719T010000
DTSTAMP:20260425T065035
CREATED:20260212T200759Z
LAST-MODIFIED:20260212T200759Z
UID:10000404-1784410200-1784422800@milltavern.ca
SUMMARY:Brock Tinsley
DESCRIPTION:
URL:https://milltavern.ca/event/brock-tinsley/
LOCATION:The Mill Tavern\, 5544 Manotick Main St\, Manotick\, Ontario\, K4M 1A2\, Canada
END:VEVENT
BEGIN:VEVENT
DTSTART;TZID=America/New_York:20260724T213000
DTEND;TZID=America/New_York:20260725T010000
DTSTAMP:20260425T065035
CREATED:20260212T200853Z
LAST-MODIFIED:20260212T200853Z
UID:10000405-1784928600-1784941200@milltavern.ca
SUMMARY:Nicholas Straccini
DESCRIPTION:
URL:https://milltavern.ca/event/nicholas-straccini/
LOCATION:The Mill Tavern\, 5544 Manotick Main St\, Manotick\, Ontario\, K4M 1A2\, Canada
CATEGORIES:Live Music
END:VEVENT
BEGIN:VEVENT
DTSTART;TZID=America/New_York:20260725T213000
DTEND;TZID=America/New_York:20260726T010000
DTSTAMP:20260425T065035
CREATED:20260212T200932Z
LAST-MODIFIED:20260212T200932Z
UID:10000406-1785015000-1785027600@milltavern.ca
SUMMARY:Fabien melanson
DESCRIPTION:
URL:https://milltavern.ca/event/fabien-melanson-4/
LOCATION:The Mill Tavern\, 5544 Manotick Main St\, Manotick\, Ontario\, K4M 1A2\, Canada
CATEGORIES:Live Music
END:VEVENT
BEGIN:VEVENT
DTSTART;TZID=America/New_York:20260912T000000
DTEND;TZID=America/New_York:20260912T235959
DTSTAMP:20260425T065035
CREATED:20260212T201253Z
LAST-MODIFIED:20260212T201253Z
UID:10000409-1789171200-1789257599@milltavern.ca
SUMMARY:Taste of Manotick
DESCRIPTION:
URL:https://milltavern.ca/event/taste-of-manotick/
LOCATION:The Mill Tavern\, 5544 Manotick Main St\, Manotick\, Ontario\, K4M 1A2\, Canada
ATTACH;FMTTYPE=image/jpeg:https://milltavern.ca/wp-content/uploads/2026/02/Taste_of_Manotick_Sunflower_Logo-974x1024-1.jpg
END:VEVENT
BEGIN:VEVENT
DTSTART;TZID=America/New_York:20261107T000000
DTEND;TZID=America/New_York:20261107T235959
DTSTAMP:20260425T065035
CREATED:20260212T201403Z
LAST-MODIFIED:20260212T201403Z
UID:10000410-1794009600-1794095999@milltavern.ca
SUMMARY:Women's Day
DESCRIPTION:
URL:https://milltavern.ca/event/womens-day/
LOCATION:The Mill Tavern\, 5544 Manotick Main St\, Manotick\, Ontario\, K4M 1A2\, Canada
ATTACH;FMTTYPE=image/jpeg:https://milltavern.ca/wp-content/uploads/2026/02/Womens_Day.jpg
END:VEVENT
BEGIN:VEVENT
DTSTART;TZID=America/New_York:20261128T000000
DTEND;TZID=America/New_York:20261128T235959
DTSTAMP:20260425T065035
CREATED:20260212T201450Z
LAST-MODIFIED:20260212T201450Z
UID:10000411-1795824000-1795910399@milltavern.ca
SUMMARY:Christmas in the Village
DESCRIPTION:
URL:https://milltavern.ca/event/christmas-in-the-village/
LOCATION:The Mill Tavern\, 5544 Manotick Main St\, Manotick\, Ontario\, K4M 1A2\, Canada
ATTACH;FMTTYPE=image/png:https://milltavern.ca/wp-content/uploads/2026/02/MBIA-Christmas-Logo.png
END:VEVENT
END:VCALENDAR