BEGIN:VCALENDAR
VERSION:2.0
PRODID:-//The Mill Tavern - ECPv6.15.19//NONSGML v1.0//EN
CALSCALE:GREGORIAN
METHOD:PUBLISH
X-ORIGINAL-URL:https://milltavern.ca
X-WR-CALDESC:Events for The Mill Tavern
REFRESH-INTERVAL;VALUE=DURATION:PT1H
X-Robots-Tag:noindex
X-PUBLISHED-TTL:PT1H
BEGIN:VTIMEZONE
TZID:America/New_York
BEGIN:DAYLIGHT
TZOFFSETFROM:-0500
TZOFFSETTO:-0400
TZNAME:EDT
DTSTART:20240310T070000
END:DAYLIGHT
BEGIN:STANDARD
TZOFFSETFROM:-0400
TZOFFSETTO:-0500
TZNAME:EST
DTSTART:20241103T060000
END:STANDARD
BEGIN:DAYLIGHT
TZOFFSETFROM:-0500
TZOFFSETTO:-0400
TZNAME:EDT
DTSTART:20250309T070000
END:DAYLIGHT
BEGIN:STANDARD
TZOFFSETFROM:-0400
TZOFFSETTO:-0500
TZNAME:EST
DTSTART:20251102T060000
END:STANDARD
BEGIN:DAYLIGHT
TZOFFSETFROM:-0500
TZOFFSETTO:-0400
TZNAME:EDT
DTSTART:20260308T070000
END:DAYLIGHT
BEGIN:STANDARD
TZOFFSETFROM:-0400
TZOFFSETTO:-0500
TZNAME:EST
DTSTART:20261101T060000
END:STANDARD
BEGIN:DAYLIGHT
TZOFFSETFROM:-0500
TZOFFSETTO:-0400
TZNAME:EDT
DTSTART:20270314T070000
END:DAYLIGHT
BEGIN:STANDARD
TZOFFSETFROM:-0400
TZOFFSETTO:-0500
TZNAME:EST
DTSTART:20271107T060000
END:STANDARD
END:VTIMEZONE
BEGIN:VEVENT
DTSTART;TZID=America/New_York:20260416T183000
DTEND;TZID=America/New_York:20260416T213000
DTSTAMP:20260424T153249
CREATED:20260212T191854Z
LAST-MODIFIED:20260212T191854Z
UID:10000358-1776364200-1776375000@milltavern.ca
SUMMARY:Josh MacFarlane
DESCRIPTION:
URL:https://milltavern.ca/event/josh-macfarlane/2026-04-16/
LOCATION:The Mill Tavern\, 5544 Manotick Main St\, Manotick\, Ontario\, K4M 1A2\, Canada
CATEGORIES:Live Music
END:VEVENT
BEGIN:VEVENT
DTSTART;TZID=America/New_York:20260410T213000
DTEND;TZID=America/New_York:20260411T010000
DTSTAMP:20260424T153249
CREATED:20260212T193937Z
LAST-MODIFIED:20260212T193937Z
UID:10000375-1775856600-1775869200@milltavern.ca
SUMMARY:Nim Wemigwans
DESCRIPTION:
URL:https://milltavern.ca/event/nim-wemigwans-2/
LOCATION:The Mill Tavern\, 5544 Manotick Main St\, Manotick\, Ontario\, K4M 1A2\, Canada
CATEGORIES:Live Music
END:VEVENT
BEGIN:VEVENT
DTSTART;TZID=America/New_York:20260404T213000
DTEND;TZID=America/New_York:20260405T010000
DTSTAMP:20260424T153249
CREATED:20260212T193847Z
LAST-MODIFIED:20260212T193847Z
UID:10000374-1775338200-1775350800@milltavern.ca
SUMMARY:Robert Clarot
DESCRIPTION:
URL:https://milltavern.ca/event/robert-clarot/
LOCATION:The Mill Tavern\, 5544 Manotick Main St\, Manotick\, Ontario\, K4M 1A2\, Canada
CATEGORIES:Live Music
END:VEVENT
BEGIN:VEVENT
DTSTART;TZID=America/New_York:20260403T213000
DTEND;TZID=America/New_York:20260404T010000
DTSTAMP:20260424T153249
CREATED:20260212T193755Z
LAST-MODIFIED:20260212T193755Z
UID:10000373-1775251800-1775264400@milltavern.ca
SUMMARY:Paddy Paystub
DESCRIPTION:
URL:https://milltavern.ca/event/paddy-paystub/
LOCATION:The Mill Tavern\, 5544 Manotick Main St\, Manotick\, Ontario\, K4M 1A2\, Canada
CATEGORIES:Live Music
END:VEVENT
BEGIN:VEVENT
DTSTART;TZID=America/New_York:20260328T213000
DTEND;TZID=America/New_York:20260329T010000
DTSTAMP:20260424T153249
CREATED:20260212T193551Z
LAST-MODIFIED:20260212T193551Z
UID:10000372-1774733400-1774746000@milltavern.ca
SUMMARY:Birds of a Feather
DESCRIPTION:
URL:https://milltavern.ca/event/birds-of-a-feather-2/
LOCATION:The Mill Tavern\, 5544 Manotick Main St\, Manotick\, Ontario\, K4M 1A2\, Canada
CATEGORIES:Live Music
END:VEVENT
BEGIN:VEVENT
DTSTART;TZID=America/New_York:20260327T213000
DTEND;TZID=America/New_York:20260328T013000
DTSTAMP:20260424T153249
CREATED:20260212T193511Z
LAST-MODIFIED:20260212T193511Z
UID:10000371-1774647000-1774661400@milltavern.ca
SUMMARY:Ryan King
DESCRIPTION:
URL:https://milltavern.ca/event/ryan-king-2/
LOCATION:The Mill Tavern\, 5544 Manotick Main St\, Manotick\, Ontario\, K4M 1A2\, Canada
CATEGORIES:Live Music
END:VEVENT
BEGIN:VEVENT
DTSTART;TZID=America/New_York:20260321T213000
DTEND;TZID=America/New_York:20260322T010000
DTSTAMP:20260424T153249
CREATED:20260212T193421Z
LAST-MODIFIED:20260212T193421Z
UID:10000370-1774128600-1774141200@milltavern.ca
SUMMARY:James Cochrane
DESCRIPTION:
URL:https://milltavern.ca/event/james-cochrane-2/
LOCATION:The Mill Tavern\, 5544 Manotick Main St\, Manotick\, Ontario\, K4M 1A2\, Canada
CATEGORIES:Live Music
END:VEVENT
BEGIN:VEVENT
DTSTART;TZID=America/New_York:20260316T213000
DTEND;TZID=America/New_York:20260317T010000
DTSTAMP:20260424T153249
CREATED:20260212T195004Z
LAST-MODIFIED:20260212T195004Z
UID:10000386-1773696600-1773709200@milltavern.ca
SUMMARY:Franco Lenzo Ottawa
DESCRIPTION:
URL:https://milltavern.ca/event/franco-lenzo-ottawa-2/
LOCATION:The Mill Tavern\, 5544 Manotick Main St\, Manotick\, Ontario\, K4M 1A2\, Canada
CATEGORIES:Live Music
END:VEVENT
BEGIN:VEVENT
DTSTART;TZID=America/New_York:20260314T213000
DTEND;TZID=America/New_York:20260315T010000
DTSTAMP:20260424T153249
CREATED:20260212T193257Z
LAST-MODIFIED:20260212T193257Z
UID:10000368-1773523800-1773536400@milltavern.ca
SUMMARY:Birds of a Feather
DESCRIPTION:
URL:https://milltavern.ca/event/birds-of-a-feather/
LOCATION:The Mill Tavern\, 5544 Manotick Main St\, Manotick\, Ontario\, K4M 1A2\, Canada
CATEGORIES:Live Music
END:VEVENT
BEGIN:VEVENT
DTSTART;TZID=America/New_York:20260313T213000
DTEND;TZID=America/New_York:20260314T010000
DTSTAMP:20260424T153249
CREATED:20260212T193204Z
LAST-MODIFIED:20260212T193204Z
UID:10000367-1773437400-1773450000@milltavern.ca
SUMMARY:Chris Allaby
DESCRIPTION:
URL:https://milltavern.ca/event/chris-allaby/
LOCATION:The Mill Tavern\, 5544 Manotick Main St\, Manotick\, Ontario\, K4M 1A2\, Canada
CATEGORIES:Live Music
END:VEVENT
BEGIN:VEVENT
DTSTART;TZID=America/New_York:20260306T213000
DTEND;TZID=America/New_York:20260307T010000
DTSTAMP:20260424T153249
CREATED:20260212T193012Z
LAST-MODIFIED:20260212T193012Z
UID:10000365-1772832600-1772845200@milltavern.ca
SUMMARY:James Cochrane
DESCRIPTION:
URL:https://milltavern.ca/event/james-cochrane/
LOCATION:The Mill Tavern\, 5544 Manotick Main St\, Manotick\, Ontario\, K4M 1A2\, Canada
CATEGORIES:Live Music
END:VEVENT
BEGIN:VEVENT
DTSTART;TZID=America/New_York:20260228T213000
DTEND;TZID=America/New_York:20260301T010000
DTSTAMP:20260424T153249
CREATED:20260212T192905Z
LAST-MODIFIED:20260212T192905Z
UID:10000364-1772314200-1772326800@milltavern.ca
SUMMARY:Fabien Melanson
DESCRIPTION:
URL:https://milltavern.ca/event/fabien-melanson-2/
LOCATION:The Mill Tavern\, 5544 Manotick Main St\, Manotick\, Ontario\, K4M 1A2\, Canada
CATEGORIES:Live Music
END:VEVENT
BEGIN:VEVENT
DTSTART;TZID=America/New_York:20260227T213000
DTEND;TZID=America/New_York:20260228T010000
DTSTAMP:20260424T153249
CREATED:20260212T192809Z
LAST-MODIFIED:20260212T192809Z
UID:10000363-1772227800-1772240400@milltavern.ca
SUMMARY:Casey McCann
DESCRIPTION:
URL:https://milltavern.ca/event/casey-mccann/
LOCATION:The Mill Tavern\, 5544 Manotick Main St\, Manotick\, Ontario\, K4M 1A2\, Canada
CATEGORIES:Live Music
END:VEVENT
BEGIN:VEVENT
DTSTART;TZID=America/New_York:20260221T213000
DTEND;TZID=America/New_York:20260222T010000
DTSTAMP:20260424T153249
CREATED:20260212T192617Z
LAST-MODIFIED:20260212T192617Z
UID:10000362-1771709400-1771722000@milltavern.ca
SUMMARY:Ryan King
DESCRIPTION:
URL:https://milltavern.ca/event/ryan-king/
LOCATION:The Mill Tavern\, 5544 Manotick Main St\, Manotick\, Ontario\, K4M 1A2\, Canada
CATEGORIES:Live Music
END:VEVENT
BEGIN:VEVENT
DTSTART;TZID=America/New_York:20260220T213000
DTEND;TZID=America/New_York:20260221T010000
DTSTAMP:20260424T153249
CREATED:20260212T192439Z
LAST-MODIFIED:20260212T192439Z
UID:10000361-1771623000-1771635600@milltavern.ca
SUMMARY:Nate Silva
DESCRIPTION:
URL:https://milltavern.ca/event/nate-silva-2/
LOCATION:The Mill Tavern\, 5544 Manotick Main St\, Manotick\, Ontario\, K4M 1A2\, Canada
CATEGORIES:Live Music
END:VEVENT
BEGIN:VEVENT
DTSTART;TZID=America/New_York:20260214T213000
DTEND;TZID=America/New_York:20260215T010000
DTSTAMP:20260424T153249
CREATED:20260212T192256Z
LAST-MODIFIED:20260212T192256Z
UID:10000360-1771104600-1771117200@milltavern.ca
SUMMARY:Fabien Melanson
DESCRIPTION:
URL:https://milltavern.ca/event/fabien-melanson/
LOCATION:The Mill Tavern\, 5544 Manotick Main St\, Manotick\, Ontario\, K4M 1A2\, Canada
CATEGORIES:Live Music
END:VEVENT
BEGIN:VEVENT
DTSTART;TZID=America/New_York:20260213T213000
DTEND;TZID=America/New_York:20260214T010000
DTSTAMP:20260424T153249
CREATED:20260212T192200Z
LAST-MODIFIED:20260212T192200Z
UID:10000359-1771018200-1771030800@milltavern.ca
SUMMARY:Nate Silva
DESCRIPTION:
URL:https://milltavern.ca/event/nate-silva/
LOCATION:The Mill Tavern\, 5544 Manotick Main St\, Manotick\, Ontario\, K4M 1A2\, Canada
CATEGORIES:Live Music
END:VEVENT
BEGIN:VEVENT
DTSTART;TZID=America/New_York:20250418T080000
DTEND;TZID=America/New_York:20250419T170000
DTSTAMP:20260424T153249
CREATED:20250326T194135Z
LAST-MODIFIED:20250326T202748Z
UID:10000006-1744963200-1745082000@milltavern.ca
SUMMARY:Live Music - Ryan McIntyre
DESCRIPTION:? Live Music at The Mill Tavern ? \nThere’s nothing like the energy of live music—and at The Mill Tavern\, we bring the vibes. From local talent to crowd-favorite bands\, our stage is home to good tunes\, cold drinks\, and great company. Whether you’re here to dance\, chill\, or discover your next favorite artist\, The Mill is where music and community come together. \nPull up a seat\, order your favorite drink\, and let the music take over.
URL:https://milltavern.ca/event/live-music-ryan-mcintyre/
LOCATION:The Mill Tavern\, 5544 Manotick Main St\, Manotick\, Ontario\, K4M 1A2\, Canada
CATEGORIES:Live Music
ATTACH;FMTTYPE=image/jpeg:https://milltavern.ca/wp-content/uploads/2025/03/matheus-ferrero-RxpqZBBevKg-unsplash-scaled.jpg
END:VEVENT
BEGIN:VEVENT
DTSTART;TZID=America/New_York:20250411T213000
DTEND;TZID=America/New_York:20250412T003000
DTSTAMP:20260424T153249
CREATED:20250326T194023Z
LAST-MODIFIED:20250326T202251Z
UID:10000005-1744407000-1744417800@milltavern.ca
SUMMARY:Live Music - Paul McCormack
DESCRIPTION:? Live Music at The Mill Tavern ? \nThere’s nothing like the energy of live music—and at The Mill Tavern\, we bring the vibes. From local talent to crowd-favorite bands\, our stage is home to good tunes\, cold drinks\, and great company. Whether you’re here to dance\, chill\, or discover your next favorite artist\, The Mill is where music and community come together. \nPull up a seat\, order your favorite drink\, and let the music take over.
URL:https://milltavern.ca/event/live-music-paul-mccormack-2/
LOCATION:The Mill Tavern\, 5544 Manotick Main St\, Manotick\, Ontario\, K4M 1A2\, Canada
CATEGORIES:Live Music
END:VEVENT
BEGIN:VEVENT
DTSTART;TZID=America/New_York:20250405T213000
DTEND;TZID=America/New_York:20250406T003000
DTSTAMP:20260424T153249
CREATED:20250326T193828Z
LAST-MODIFIED:20250326T202801Z
UID:10000004-1743888600-1743899400@milltavern.ca
SUMMARY:Live Music - JJ & the G Spots
DESCRIPTION:? Live Music at The Mill Tavern ? \nThere’s nothing like the energy of live music—and at The Mill Tavern\, we bring the vibes. From local talent to crowd-favorite bands\, our stage is home to good tunes\, cold drinks\, and great company. Whether you’re here to dance\, chill\, or discover your next favorite artist\, The Mill is where music and community come together. \nPull up a seat\, order your favorite drink\, and let the music take over.
URL:https://milltavern.ca/event/live-music-jj-the-g-spots/
LOCATION:The Mill Tavern\, 5544 Manotick Main St\, Manotick\, Ontario\, K4M 1A2\, Canada
CATEGORIES:Live Music
ATTACH;FMTTYPE=image/jpeg:https://milltavern.ca/wp-content/uploads/2025/03/matheus-ferrero-RxpqZBBevKg-unsplash-scaled.jpg
END:VEVENT
BEGIN:VEVENT
DTSTART;TZID=America/New_York:20250404T213000
DTEND;TZID=America/New_York:20250405T123000
DTSTAMP:20260424T153249
CREATED:20250326T193507Z
LAST-MODIFIED:20250326T202656Z
UID:10000003-1743802200-1743856200@milltavern.ca
SUMMARY:Live Music - Terence Obrien
DESCRIPTION:? Live Music at The Mill Tavern ? \nThere’s nothing like the energy of live music—and at The Mill Tavern\, we bring the vibes. From local talent to crowd-favorite bands\, our stage is home to good tunes\, cold drinks\, and great company. Whether you’re here to dance\, chill\, or discover your next favorite artist\, The Mill is where music and community come together. \nPull up a seat\, order your favorite drink\, and let the music take over.
URL:https://milltavern.ca/event/live-music-terence-obrien/
LOCATION:The Mill Tavern\, 5544 Manotick Main St\, Manotick\, Ontario\, K4M 1A2\, Canada
CATEGORIES:Live Music
ATTACH;FMTTYPE=image/jpeg:https://milltavern.ca/wp-content/uploads/2025/03/matheus-ferrero-RxpqZBBevKg-unsplash-scaled.jpg
END:VEVENT
BEGIN:VEVENT
DTSTART;TZID=America/New_York:20250329T213000
DTEND;TZID=America/New_York:20250329T213000
DTSTAMP:20260424T153249
CREATED:20250326T193302Z
LAST-MODIFIED:20250326T202824Z
UID:10000002-1743283800-1743283800@milltavern.ca
SUMMARY:Live Music - Paul McCormack
DESCRIPTION:
URL:https://milltavern.ca/event/live-music-paul-mccormack/
LOCATION:The Mill Tavern\, 5544 Manotick Main St\, Manotick\, Ontario\, K4M 1A2\, Canada
CATEGORIES:Live Music
ATTACH;FMTTYPE=image/jpeg:https://milltavern.ca/wp-content/uploads/2025/03/matheus-ferrero-RxpqZBBevKg-unsplash-scaled.jpg
END:VEVENT
END:VCALENDAR