BEGIN:VCALENDAR
VERSION:2.0
PRODID:-//The Mill Tavern - ECPv6.15.19//NONSGML v1.0//EN
CALSCALE:GREGORIAN
METHOD:PUBLISH
X-WR-CALNAME:The Mill Tavern
X-ORIGINAL-URL:https://milltavern.ca
X-WR-CALDESC:Events for The Mill Tavern
REFRESH-INTERVAL;VALUE=DURATION:PT1H
X-Robots-Tag:noindex
X-PUBLISHED-TTL:PT1H
BEGIN:VTIMEZONE
TZID:America/New_York
BEGIN:DAYLIGHT
TZOFFSETFROM:-0500
TZOFFSETTO:-0400
TZNAME:EDT
DTSTART:20250309T070000
END:DAYLIGHT
BEGIN:STANDARD
TZOFFSETFROM:-0400
TZOFFSETTO:-0500
TZNAME:EST
DTSTART:20251102T060000
END:STANDARD
BEGIN:DAYLIGHT
TZOFFSETFROM:-0500
TZOFFSETTO:-0400
TZNAME:EDT
DTSTART:20260308T070000
END:DAYLIGHT
BEGIN:STANDARD
TZOFFSETFROM:-0400
TZOFFSETTO:-0500
TZNAME:EST
DTSTART:20261101T060000
END:STANDARD
BEGIN:DAYLIGHT
TZOFFSETFROM:-0500
TZOFFSETTO:-0400
TZNAME:EDT
DTSTART:20270314T070000
END:DAYLIGHT
BEGIN:STANDARD
TZOFFSETFROM:-0400
TZOFFSETTO:-0500
TZNAME:EST
DTSTART:20271107T060000
END:STANDARD
END:VTIMEZONE
BEGIN:VEVENT
DTSTART;TZID=America/New_York:20260508T213000
DTEND;TZID=America/New_York:20260509T010000
DTSTAMP:20260424T170131
CREATED:20260212T194704Z
LAST-MODIFIED:20260212T194714Z
UID:10000383-1778275800-1778288400@milltavern.ca
SUMMARY:Chris Allaby
DESCRIPTION:
URL:https://milltavern.ca/event/chris-allaby-2/
LOCATION:The Mill Tavern\, 5544 Manotick Main St\, Manotick\, Ontario\, K4M 1A2\, Canada
CATEGORIES:Live Music
END:VEVENT
BEGIN:VEVENT
DTSTART;TZID=America/New_York:20260509T213000
DTEND;TZID=America/New_York:20260510T010000
DTSTAMP:20260424T170131
CREATED:20260212T194758Z
LAST-MODIFIED:20260212T194758Z
UID:10000384-1778362200-1778374800@milltavern.ca
SUMMARY:Fabien Melanson
DESCRIPTION:
URL:https://milltavern.ca/event/fabien-melanson-3/
LOCATION:The Mill Tavern\, 5544 Manotick Main St\, Manotick\, Ontario\, K4M 1A2\, Canada
CATEGORIES:Live Music
END:VEVENT
BEGIN:VEVENT
DTSTART;TZID=America/New_York:20260515T213000
DTEND;TZID=America/New_York:20260516T010000
DTSTAMP:20260424T170131
CREATED:20260212T194925Z
LAST-MODIFIED:20260212T194925Z
UID:10000385-1778880600-1778893200@milltavern.ca
SUMMARY:Naledi Sunstrum
DESCRIPTION:
URL:https://milltavern.ca/event/naledi-sunstrum-2/
LOCATION:The Mill Tavern\, 5544 Manotick Main St\, Manotick\, Ontario\, K4M 1A2\, Canada
CATEGORIES:Live Music
END:VEVENT
BEGIN:VEVENT
DTSTART;TZID=America/New_York:20260522T213000
DTEND;TZID=America/New_York:20260523T010000
DTSTAMP:20260424T170131
CREATED:20260212T195117Z
LAST-MODIFIED:20260212T195117Z
UID:10000387-1779485400-1779498000@milltavern.ca
SUMMARY:Asif Islam
DESCRIPTION:
URL:https://milltavern.ca/event/asif-islam/
LOCATION:The Mill Tavern\, 5544 Manotick Main St\, Manotick\, Ontario\, K4M 1A2\, Canada
CATEGORIES:Live Music
END:VEVENT
BEGIN:VEVENT
DTSTART;TZID=America/New_York:20260523T213000
DTEND;TZID=America/New_York:20260524T010000
DTSTAMP:20260424T170131
CREATED:20260212T195250Z
LAST-MODIFIED:20260212T195250Z
UID:10000388-1779571800-1779584400@milltavern.ca
SUMMARY:Ryan King
DESCRIPTION:
URL:https://milltavern.ca/event/ryan-king-4/
LOCATION:The Mill Tavern\, 5544 Manotick Main St\, Manotick\, Ontario\, K4M 1A2\, Canada
CATEGORIES:Live Music
END:VEVENT
BEGIN:VEVENT
DTSTART;TZID=America/New_York:20260529T213000
DTEND;TZID=America/New_York:20260530T010000
DTSTAMP:20260424T170131
CREATED:20260212T195342Z
LAST-MODIFIED:20260212T195342Z
UID:10000389-1780090200-1780102800@milltavern.ca
SUMMARY:Nick Straccini
DESCRIPTION:
URL:https://milltavern.ca/event/nick-straccini/
LOCATION:The Mill Tavern\, 5544 Manotick Main St\, Manotick\, Ontario\, K4M 1A2\, Canada
CATEGORIES:Live Music
END:VEVENT
BEGIN:VEVENT
DTSTART;TZID=America/New_York:20260530T213000
DTEND;TZID=America/New_York:20260531T010000
DTSTAMP:20260424T170131
CREATED:20260212T195429Z
LAST-MODIFIED:20260212T195429Z
UID:10000390-1780176600-1780189200@milltavern.ca
SUMMARY:Stuart Hoopfer
DESCRIPTION:
URL:https://milltavern.ca/event/stuart-hoopfer/
LOCATION:The Mill Tavern\, 5544 Manotick Main St\, Manotick\, Ontario\, K4M 1A2\, Canada
CATEGORIES:Live Music
END:VEVENT
END:VCALENDAR