BEGIN:VCALENDAR
VERSION:2.0
PRODID:-//The Mill Tavern - ECPv6.15.19//NONSGML v1.0//EN
CALSCALE:GREGORIAN
METHOD:PUBLISH
X-ORIGINAL-URL:https://milltavern.ca
X-WR-CALDESC:Events for The Mill Tavern
REFRESH-INTERVAL;VALUE=DURATION:PT1H
X-Robots-Tag:noindex
X-PUBLISHED-TTL:PT1H
BEGIN:VTIMEZONE
TZID:America/New_York
BEGIN:DAYLIGHT
TZOFFSETFROM:-0500
TZOFFSETTO:-0400
TZNAME:EDT
DTSTART:20250309T070000
END:DAYLIGHT
BEGIN:STANDARD
TZOFFSETFROM:-0400
TZOFFSETTO:-0500
TZNAME:EST
DTSTART:20251102T060000
END:STANDARD
BEGIN:DAYLIGHT
TZOFFSETFROM:-0500
TZOFFSETTO:-0400
TZNAME:EDT
DTSTART:20260308T070000
END:DAYLIGHT
BEGIN:STANDARD
TZOFFSETFROM:-0400
TZOFFSETTO:-0500
TZNAME:EST
DTSTART:20261101T060000
END:STANDARD
BEGIN:DAYLIGHT
TZOFFSETFROM:-0500
TZOFFSETTO:-0400
TZNAME:EDT
DTSTART:20270314T070000
END:DAYLIGHT
BEGIN:STANDARD
TZOFFSETFROM:-0400
TZOFFSETTO:-0500
TZNAME:EST
DTSTART:20271107T060000
END:STANDARD
END:VTIMEZONE
BEGIN:VEVENT
DTSTART;TZID=America/New_York:20260302T000000
DTEND;TZID=America/New_York:20260302T235959
DTSTAMP:20260424T165839
CREATED:20260212T181151Z
LAST-MODIFIED:20260212T181151Z
UID:10000331-1772409600-1772495999@milltavern.ca
SUMMARY:🍗 MONDAY = WING DAY 🍗
DESCRIPTION:50% OFF WINGS — EVERY MONDAY \nCrispy. Saucy. Worth planning your week around. \n✔️ Choose your favourite flavour\n✔️ Comes with your choice of side\n✔️ Perfect with a cold pint \n📍 Dine-in only\n⏰ Every Monday \nTag your wing crew and make it a Monday tradition. 🔥
URL:https://milltavern.ca/event/%f0%9f%8d%97-monday-wing-day-%f0%9f%8d%97/2026-03-02/
LOCATION:The Mill Tavern\, 5544 Manotick Main St\, Manotick\, Ontario\, K4M 1A2\, Canada
CATEGORIES:Food & Beverage
ATTACH;FMTTYPE=image/png:https://milltavern.ca/wp-content/uploads/2026/02/From-Rob-2026-02-12-at-13.04.40@2x-e1770919834380.png
END:VEVENT
BEGIN:VEVENT
DTSTART;TZID=America/New_York:20260309T000000
DTEND;TZID=America/New_York:20260309T235959
DTSTAMP:20260424T165839
CREATED:20260212T181151Z
LAST-MODIFIED:20260212T181151Z
UID:10000332-1773014400-1773100799@milltavern.ca
SUMMARY:🍗 MONDAY = WING DAY 🍗
DESCRIPTION:50% OFF WINGS — EVERY MONDAY \nCrispy. Saucy. Worth planning your week around. \n✔️ Choose your favourite flavour\n✔️ Comes with your choice of side\n✔️ Perfect with a cold pint \n📍 Dine-in only\n⏰ Every Monday \nTag your wing crew and make it a Monday tradition. 🔥
URL:https://milltavern.ca/event/%f0%9f%8d%97-monday-wing-day-%f0%9f%8d%97/2026-03-09/
LOCATION:The Mill Tavern\, 5544 Manotick Main St\, Manotick\, Ontario\, K4M 1A2\, Canada
CATEGORIES:Food & Beverage
ATTACH;FMTTYPE=image/png:https://milltavern.ca/wp-content/uploads/2026/02/From-Rob-2026-02-12-at-13.04.40@2x-e1770919834380.png
END:VEVENT
BEGIN:VEVENT
DTSTART;TZID=America/New_York:20260316T000000
DTEND;TZID=America/New_York:20260316T235959
DTSTAMP:20260424T165839
CREATED:20260212T181151Z
LAST-MODIFIED:20260212T181151Z
UID:10000333-1773619200-1773705599@milltavern.ca
SUMMARY:🍗 MONDAY = WING DAY 🍗
DESCRIPTION:50% OFF WINGS — EVERY MONDAY \nCrispy. Saucy. Worth planning your week around. \n✔️ Choose your favourite flavour\n✔️ Comes with your choice of side\n✔️ Perfect with a cold pint \n📍 Dine-in only\n⏰ Every Monday \nTag your wing crew and make it a Monday tradition. 🔥
URL:https://milltavern.ca/event/%f0%9f%8d%97-monday-wing-day-%f0%9f%8d%97/2026-03-16/
LOCATION:The Mill Tavern\, 5544 Manotick Main St\, Manotick\, Ontario\, K4M 1A2\, Canada
CATEGORIES:Food & Beverage
ATTACH;FMTTYPE=image/png:https://milltavern.ca/wp-content/uploads/2026/02/From-Rob-2026-02-12-at-13.04.40@2x-e1770919834380.png
END:VEVENT
BEGIN:VEVENT
DTSTART;TZID=America/New_York:20260323T000000
DTEND;TZID=America/New_York:20260323T235959
DTSTAMP:20260424T165839
CREATED:20260212T181151Z
LAST-MODIFIED:20260212T181151Z
UID:10000334-1774224000-1774310399@milltavern.ca
SUMMARY:🍗 MONDAY = WING DAY 🍗
DESCRIPTION:50% OFF WINGS — EVERY MONDAY \nCrispy. Saucy. Worth planning your week around. \n✔️ Choose your favourite flavour\n✔️ Comes with your choice of side\n✔️ Perfect with a cold pint \n📍 Dine-in only\n⏰ Every Monday \nTag your wing crew and make it a Monday tradition. 🔥
URL:https://milltavern.ca/event/%f0%9f%8d%97-monday-wing-day-%f0%9f%8d%97/2026-03-23/
LOCATION:The Mill Tavern\, 5544 Manotick Main St\, Manotick\, Ontario\, K4M 1A2\, Canada
CATEGORIES:Food & Beverage
ATTACH;FMTTYPE=image/png:https://milltavern.ca/wp-content/uploads/2026/02/From-Rob-2026-02-12-at-13.04.40@2x-e1770919834380.png
END:VEVENT
BEGIN:VEVENT
DTSTART;TZID=America/New_York:20260330T000000
DTEND;TZID=America/New_York:20260330T235959
DTSTAMP:20260424T165839
CREATED:20260212T181151Z
LAST-MODIFIED:20260212T181151Z
UID:10000335-1774828800-1774915199@milltavern.ca
SUMMARY:🍗 MONDAY = WING DAY 🍗
DESCRIPTION:50% OFF WINGS — EVERY MONDAY \nCrispy. Saucy. Worth planning your week around. \n✔️ Choose your favourite flavour\n✔️ Comes with your choice of side\n✔️ Perfect with a cold pint \n📍 Dine-in only\n⏰ Every Monday \nTag your wing crew and make it a Monday tradition. 🔥
URL:https://milltavern.ca/event/%f0%9f%8d%97-monday-wing-day-%f0%9f%8d%97/2026-03-30/
LOCATION:The Mill Tavern\, 5544 Manotick Main St\, Manotick\, Ontario\, K4M 1A2\, Canada
CATEGORIES:Food & Beverage
ATTACH;FMTTYPE=image/png:https://milltavern.ca/wp-content/uploads/2026/02/From-Rob-2026-02-12-at-13.04.40@2x-e1770919834380.png
END:VEVENT
END:VCALENDAR